BEGIN:VCALENDAR
VERSION:2.0
PRODID:-//ChamberMaster//Event Calendar 2.0//EN
METHOD:PUBLISH
X-PUBLISHED-TTL:P3D
REFRESH-INTERVAL:P3D
CALSCALE:GREGORIAN
BEGIN:VEVENT
DTSTART:20210317T163000Z
DTEND:20210317T173000Z
X-MICROSOFT-CDO-ALLDAYEVENT:FALSE
SUMMARY:MEMBER EVENT: Differentiating Your Company with High Maturity
DESCRIPTION:Free seminar on how to differentiate your company in the marketplace through the adoption of CMMI High Maturity.\n\n\n\nRegister HERE.
X-ALT-DESC;FMTTYPE=text/html:<br />\n<span style="font-size:16px\;">Free seminar on how to differentiate your company in the marketplace through the adoption of CMMI High Maturity.<br />\n<br />\nRegister <a href="https://brightlineperformance.com/seminars"><strong>HERE</strong></a>. </span>
LOCATION:Virtual event
UID:e.2112.12289
SEQUENCE:3
DTSTAMP:20260421T133159Z
URL:https://cm.hsvchamber.org/events/details/member-event-differentiating-your-company-with-high-maturity-12289
END:VEVENT

END:VCALENDAR
