BEGIN:VCALENDAR
VERSION:2.0
PRODID:-//ChamberMaster//Event Calendar 2.0//EN
METHOD:PUBLISH
X-PUBLISHED-TTL:P3D
REFRESH-INTERVAL:P3D
CALSCALE:GREGORIAN
BEGIN:VEVENT
DTSTART:20151009T230000Z
DTEND:20151010T020000Z
X-MICROSOFT-CDO-ALLDAYEVENT:FALSE
SUMMARY:MEMBER EVENT: Debbie Bond & the TruDats Concert on the Dock
DESCRIPTION:Join us for the final Concert on the Dock of the Fall season with Debbie Bond & the Trudats! Singer\, guitar player and songwriter Debbie Bond has been paying her dues in the Alabama backwoods for more than 30 years. Her singing has been compared to Bonnie Raitt and Maria Muldaur\, both of whom she cites as being influences on her music. The truth is that Debbie does it her way\, playing a dynamic mix of soulful originals and covers.\n\nConcerts on the Dock are always free\, but we ask a $2 suggested parking donation. Please carpool!\n\n\n\nConcerts on the Dock has grown from a small gathering of music lovers to an institution in the Huntsville music scene since the first note was struck in 2008. This free\, family-friendly series is all about creating a laid back atmosphere for friends of Lowe Mill to enjoy original content and interesting new acts\, Friday nights during the Spring and Fall. Bring chairs\, picnics\, friends and pets on a leash and join us under the water tower!
X-ALT-DESC;FMTTYPE=text/html:<p><br />\n<span style="font-size:14px\;"><span style="font-family: arial\;">Join us for the final <strong>Concert on the Dock</strong> of the Fall season with&nbsp\;<a href="http://www.debbiebond.com/" style="margin: 0px\; padding: 0px\; border: 0px\; font-family: inherit\; font-size: inherit\; font-style: inherit\; font-variant: inherit\; font-weight: inherit\; font-stretch: inherit\; line-height: inherit\; vertical-align: baseline\; text-decoration: none\; color: rgb(51\, 51\, 51)\;">Debbie Bond &amp\; the Trudats</a>!&nbsp\;Singer\, guitar player and songwriter Debbie Bond has been paying her dues in the Alabama backwoods for more than 30 years. Her singing has been compared to Bonnie Raitt and Maria Muldaur\, both of whom she cites as being influences on her music. The truth is that Debbie does it her way\, playing a dynamic mix of soulful originals and covers.</span></span></p>\n\n<p><span style="font-size:14px\;"><span style="font-family: arial\;">Concerts on the Dock are always free\, but we ask a $2 suggested parking donation. Please carpool!</span></span></p>\n\n<p><br />\n<em><span style="font-size:14px\;"><span style="font-family: arial\;">Concerts on the Dock has grown from a small gathering of music lovers to an institution in the Huntsville music scene since the first note was struck in 2008. This free\, family-friendly series is all about creating a laid back atmosphere for friends of Lowe Mill to enjoy original content and interesting new acts\,&nbsp\;Friday&nbsp\;nights during the Spring and Fall. Bring chairs\, picnics\, friends and pets on a leash and join us under the water tower!</span></span></em></p>\n\n<p>&nbsp\;</p>\n
LOCATION:Lowe Mill ARTS & Entertainment 2211 Seminole Drive Huntsville\, AL 35805
UID:e.2112.3331
SEQUENCE:3
DTSTAMP:20260419T211631Z
URL:https://cm.hsvchamber.org/events/details/member-event-debbie-bond-the-trudats-concert-on-the-dock-10-09-2015-3331
END:VEVENT

END:VCALENDAR
