BEGIN:VCALENDAR
VERSION:2.0
PRODID:-//ChamberMaster//Event Calendar 2.0//EN
METHOD:PUBLISH
X-PUBLISHED-TTL:P3D
REFRESH-INTERVAL:P3D
CALSCALE:GREGORIAN
BEGIN:VEVENT
DTSTART:20151020T223000Z
DTEND:20151021T010000Z
X-MICROSOFT-CDO-ALLDAYEVENT:FALSE
SUMMARY:MEMBER EVENT: Creole Feast benefitting the Kingslea Merkel Liver Disease Foundation
DESCRIPTION:Join us for the 2015 Creole Feast to benefit the Kingslea Merkel Liver Disease Foundation!\n\n\n\nAll donations received will go to the KMLD Foundation to help qualified liver transplant patients with monetary help\, education\, awareness about liver disease\, nutritional guidance & support for patients and their families in the Northern Alabama/Southern Tennessee area.\n\n\n\nGreat Food\, Music\, and Fun\n\n"Laissez le bon temps rouler"\n\n\n\n\n\nRSVP by October 9 to The Kingslea Merkel Liver Disease Foundation\n\nP.O. Box 11906\, Huntsville\, AL 35814\n\nCash or check payable to The Kingslea Merkel Hope Fund
X-ALT-DESC;FMTTYPE=text/html:<div>\n<div><br />\n<span style="font-size:14px\;"><span style="font-family:arial\;">Join us for the <strong>2015&nbsp\;</strong></span></span><span style="font-family: arial\; font-size: 14px\; line-height: 22px\;"><strong>Creole Feast </strong>to benefit the&nbsp\;</span><span style="font-size:14px\;"><span style="font-family:arial\;">Kingslea Merkel Liver Disease Foundation!<br />\n<br />\nAll donations received will go to the KMLD&nbsp\;Foundation&nbsp\;to help qualified liver transplant patients with monetary help\, education\, awareness about liver disease\, nutritional guidance &amp\; support for patients and their families in the Northern Alabama/Southern Tennessee area.<br />\n<br />\nGreat Food\, Music\, and Fun<br />\n<em>&quot\;Laissez le bon temps rouler&quot\;</em><br />\n<br />\n<br />\nRSVP by October 9 to&nbsp\;The Kingslea Merkel Liver Disease Foundation<br />\nP.O. Box 11906\,&nbsp\;Huntsville\, AL 35814<br />\nCash or check payable to The Kingslea Merkel Hope Fund</span></span><br />\n&nbsp\;</div>\n</div>\n
LOCATION:Clementine's 600 O'Shaughnessy Avenue Huntsville\, AL 35801
UID:e.2112.4913
SEQUENCE:3
DTSTAMP:20260419T211744Z
URL:https://cm.hsvchamber.org/events/details/member-event-creole-feast-benefitting-the-kingslea-merkel-liver-disease-foundation-10-20-2015-4913
END:VEVENT

END:VCALENDAR
