BEGIN:VCALENDAR
VERSION:2.0
PRODID:-//ChamberMaster//Event Calendar 2.0//EN
METHOD:PUBLISH
X-PUBLISHED-TTL:P3D
REFRESH-INTERVAL:P3D
CALSCALE:GREGORIAN
BEGIN:VEVENT
DTSTART;VALUE=DATE:20230512
DTEND;VALUE=DATE:20230513
TRANSP:TRANSPARENT
X-MICROSOFT-CDO-ALLDAYEVENT:TRUE
SUMMARY:MEMBER EVENT: Community Free Dental Clinic Golf Tournament
DESCRIPTION:Enjoy a day on the course at the Community Free Dental Clinic's Annual Golf Tournament in honor of COL William (Bill) Stirling.\n\n\n\nThe CFDC Charity Golf Tournament is vital to funding our mission which as a nonprofit under the IRS is to provide quality dental care and education to the adult uninsured population of Madison County. We serve the 46\,000 residents of Madison County who are at or below poverty level\, the homeless Veterans\, the Elderly\, the Disabled\, the working poor and those suffering from chemotherapy and radiation therapy.\n\n\n\nPlease help us to complete our mission and at the same time have fun by playing in our tournament. Funds raised by the Tournament minus the Tournament's expense will go to funding the operational expenses of the Community Free Dental Clinic.
X-ALT-DESC;FMTTYPE=text/html:<span style="font-size:16px\;">Enjoy a day on the course at the <strong>Community Free Dental Clinic&#39\;s Annual Golf Tournament</strong> in honor of COL William (Bill) Stirling.<br />\n<br />\nThe CFDC Charity Golf Tournament is vital to funding our mission which as a nonprofit under the IRS is to provide quality dental care and education to the adult uninsured population of Madison County. We serve the 46\,000 residents of Madison County who are at or below poverty level\, the homeless Veterans\, the Elderly\, the Disabled\, the working poor and those suffering from chemotherapy and radiation therapy.<br />\n<br />\nPlease help us to complete our mission and at the same time have fun by playing in our tournament. Funds raised by the Tournament minus the Tournament&#39\;s expense will go to funding the operational expenses of the <a href="https://hsvfreedental.org/">Community Free Dental Clinic</a>.</span><br />\n<br />\n&nbsp\;
LOCATION:The Links of Redstone Hillside Course Golfers will be granted access on base.
UID:e.2112.14398
SEQUENCE:3
DTSTAMP:20260423T233926Z
URL:https://cm.hsvchamber.org/events/details/member-event-community-free-dental-clinic-golf-tournament-14398
END:VEVENT

END:VCALENDAR
