BEGIN:VCALENDAR
VERSION:2.0
PRODID:-//ChamberMaster//Event Calendar 2.0//EN
METHOD:PUBLISH
X-PUBLISHED-TTL:P3D
REFRESH-INTERVAL:P3D
CALSCALE:GREGORIAN
BEGIN:VEVENT
DTSTART:20220728T210000Z
DTEND:20220729T000000Z
X-MICROSOFT-CDO-ALLDAYEVENT:FALSE
SUMMARY:MEMBER EVENT: Community Engagement Event with Tennessee Riverline
DESCRIPTION:The Tennessee RiverLine team is bringing its 652 to YOU program to South Huntsville on July 27 and 28\, and we want you to be there!\n\n\n\nThe 652 to YOU program is a multi-day series of fun events and engagement activities that will help us all learn more about the Tennessee RiverLine in South Huntsville while identifying and informing next steps toward a Community Planning Initiative project   such as a new riverfront park\, new riverside campsites or access points\, or connective trails/greenways.\n\n\n\nEvents are free to attend\, but please RSVP here.
X-ALT-DESC;FMTTYPE=text/html:<span style="font-size:16px\;">The <strong>Tennessee RiverLine</strong> team is bringing its <strong>652 to YOU</strong> program to South Huntsville on July 27 and 28\, and we want you to be there!<br />\n<br />\nThe 652 to YOU program is a multi-day series of fun events and engagement activities that will help us all learn more about the Tennessee RiverLine in South Huntsville while identifying and informing next steps toward a Community Planning Initiative project &ndash\; such as a new riverfront park\, new riverside campsites or access points\, or connective trails/greenways.<br />\n<br />\nEvents are free to attend\, but please <strong><a href="https://www.eventbrite.com/e/652-to-you-huntsville-community-event-tickets-338228569757?aff=odeimcmailchimp&amp\;mc_cid=337aca5d01&amp\;mc_eid=9c5f269082">RSVP here</a></strong>.</span><br />\n&nbsp\;
LOCATION:Parish Hall at St. Thomas Episcopal Church
UID:e.2112.13630
SEQUENCE:3
DTSTAMP:20260421T103731Z
URL:https://cm.hsvchamber.org/events/details/member-event-community-engagement-event-with-tennessee-riverline-13630
END:VEVENT

END:VCALENDAR
