BEGIN:VCALENDAR
VERSION:2.0
PRODID:-//ChamberMaster//Event Calendar 2.0//EN
METHOD:PUBLISH
X-PUBLISHED-TTL:P3D
REFRESH-INTERVAL:P3D
CALSCALE:GREGORIAN
BEGIN:VEVENT
DTSTART:20220510T133000Z
DTEND:20220510T210000Z
X-MICROSOFT-CDO-ALLDAYEVENT:FALSE
SUMMARY:MEMBER EVENT: CMMC 2.0 Summit
DESCRIPTION:To safeguard sensitive national security information\, the Department of Defense (DoD) launched CMMC 2.0\, a comprehensive framework to protect the defense industrial base from increasingly frequent and complex cyberattacks. The CMMC 2.0 Summit\, presented by CyberProtex and I2C\, addresses security threats and industry best practices for the corporate computing infrastructure.\n\n\n\nTopics: \n\n	Preparing for CMMC 2.0 Audit Using Power Automate for Security and Compliance \n	Why use GCC vs GCC High Incident Response - DLP for CUI and FCI \n	Affordable and Reliable SIEM Solutions Backups Bakeoff - AWS\, Azure\, Veaam
X-ALT-DESC;FMTTYPE=text/html:<span style="font-size:16px\;">To safeguard sensitive national security information\, the Department of Defense (DoD) launched CMMC 2.0\, a comprehensive framework to protect the defense industrial base from increasingly frequent and complex cyberattacks. The CMMC 2.0 Summit\, presented by CyberProtex and I2C\, addresses security threats and industry best practices for the corporate computing infrastructure.<br />\n<br />\nTopics: </span>\n<ul>\n	<li><span style="font-size:16px\;">Preparing for CMMC 2.0 Audit Using Power Automate for Security and Compliance </span></li>\n	<li><span style="font-size:16px\;">Why use GCC vs GCC High Incident Response - DLP for CUI and FCI </span></li>\n	<li><span style="font-size:16px\;">Affordable and Reliable SIEM Solutions Backups Bakeoff - AWS\, Azure\, Veaam</span></li>\n</ul>\n
LOCATION:UAH Invention to Innovation Center (I2C)
UID:e.2112.13534
SEQUENCE:3
DTSTAMP:20260424T180423Z
URL:https://cm.hsvchamber.org/events/details/member-event-cmmc-2-0-summit-13534
END:VEVENT

END:VCALENDAR
