BEGIN:VCALENDAR
VERSION:2.0
PRODID:-//ChamberMaster//Event Calendar 2.0//EN
METHOD:PUBLISH
X-PUBLISHED-TTL:P3D
REFRESH-INTERVAL:P3D
CALSCALE:GREGORIAN
BEGIN:VEVENT
DTSTART:20230913T230000Z
DTEND:20230914T020000Z
X-MICROSOFT-CDO-ALLDAYEVENT:FALSE
SUMMARY:MEMBER EVENT: Char Restaurant Orin Swift Wine Dinner (2 days)
DESCRIPTION:Join us on September 13th or 14th for a wine-pairing dinner featuring a selection of wines from the Orin Swift Cellars portfolio. Founded by David Swift Phinney\, who discovered his love for wine during a trip to Florence\, Italy\, in college\, we've hand-selected five wines from the California winemaker to pair with a special prix fixe menu created by our culinary team. Throughout the evening\, guests will learn about the featured wines and tasting notes\, presented by our friend Caroline Decker from E&J Gallo Winery\, the representative of Orin Swift in Alabama.\n\nGuests will receive a glass of wine upon arrival for a brief reception prior to being seated family-style for the coursed dinner in our private dining room. \n\n\n\nClick HERE to reserve your seat.
X-ALT-DESC;FMTTYPE=text/html:<p><span style="font-size:16px\;">Join us on September 13th or 14th for a wine-pairing dinner featuring a selection of wines from the Orin Swift Cellars portfolio. Founded by David Swift Phinney\, who discovered his love for wine during a trip to Florence\, Italy\, in college\, we&#39\;ve hand-selected five wines from the California winemaker to pair with a special prix fixe menu created by our culinary team. Throughout the evening\, guests will learn about the featured wines and tasting notes\, presented by our friend Caroline Decker from E&amp\;J Gallo Winery\, the representative of Orin Swift in Alabama.</span></p>\n\n<p><span style="font-size:16px\;">Guests will receive a glass of wine upon arrival for a brief reception prior to being seated family-style for the coursed dinner in our private dining room.&nbsp\;<br />\n<br />\nClick <a href="https://www.eventbrite.com/o/char-restaurant-18000510681"><strong>HERE</strong></a> to reserve your seat.</span><br />\n&nbsp\;</p>\n
LOCATION:Char Restaurant
UID:e.2112.16052
SEQUENCE:3
DTSTAMP:20260424T053458Z
URL:https://cm.hsvchamber.org/events/details/member-event-char-restaurant-orin-swift-wine-dinner-2-days-16052
END:VEVENT

END:VCALENDAR
