BEGIN:VCALENDAR
VERSION:2.0
PRODID:-//ChamberMaster//Event Calendar 2.0//EN
METHOD:PUBLISH
X-PUBLISHED-TTL:P3D
REFRESH-INTERVAL:P3D
CALSCALE:GREGORIAN
BEGIN:VEVENT
DTSTART:20210224T133000Z
DTEND:20210224T171500Z
X-MICROSOFT-CDO-ALLDAYEVENT:FALSE
SUMMARY:MEMBER EVENT: Calhoun Community College Employer Day 2021
DESCRIPTION:The Department of Career Services and Cooperative Learning at Calhoun Community College will host "Employer Day at Calhoun\," February 24\, 2021\, at the Advanced Technology Center (ATC) located on the Decatur campus.\n\n\n\nThe goal of the event is to provide an opportunity for area employers to find out more about the services provided by Calhoun's Career Services staff. Participants will enjoy breakfast\, followed by breakout sessions highlighting programs and resources offered by Calhoun\, including co-op\, FAME (Federation for Advanced Manufacturing Education)\, EPIC (Excellence in Process Industrial Controls)\, AMP (Alliance for Machining Professionals)\, employee assessments\, customized training\, and more.\n\n\n\nAttendees will network with the faculty that train North Alabama's future workforce as well as other area employers. Tours of some of the college's most popular programs will also be offered. Register HERE.
X-ALT-DESC;FMTTYPE=text/html:<br />\n<span style="font-size:16px\;">The Department of Career Services and Cooperative Learning at Calhoun Community College will host &ldquo\;Employer Day at Calhoun\,&rdquo\; February 24\, 2021\, at the Advanced Technology Center (ATC) located on the Decatur campus.<br />\n<br />\nThe goal of the event is to provide an opportunity for area employers to find out more about the services provided by Calhoun&rsquo\;s Career Services staff. Participants will enjoy breakfast\, followed by breakout sessions highlighting programs and resources offered by Calhoun\, including co-op\, FAME (Federation for Advanced Manufacturing Education)\, EPIC (Excellence in Process Industrial Controls)\, AMP (Alliance for Machining Professionals)\, employee assessments\, customized training\, and more.<br />\n<br />\nAttendees will network with the faculty that train North Alabama&rsquo\;s future workforce as well as other area employers. Tours of some of the college&rsquo\;s most popular programs will also be offered. Register <a href="https://calhoun.edu/events/employer-day/"><strong>HERE</strong></a>.</span>
LOCATION:Calhoun Community College Decatur Campus ATC Building 6250 Hwy. 31 North
UID:e.2112.12014
SEQUENCE:3
DTSTAMP:20260421T163403Z
URL:https://cm.hsvchamber.org/events/details/member-event-calhoun-community-college-employer-day-2021-12014
END:VEVENT

END:VCALENDAR
