BEGIN:VCALENDAR
VERSION:2.0
PRODID:-//ChamberMaster//Event Calendar 2.0//EN
METHOD:PUBLISH
X-PUBLISHED-TTL:P3D
REFRESH-INTERVAL:P3D
CALSCALE:GREGORIAN
BEGIN:VEVENT
DTSTART:20151002T230000Z
DTEND:20151003T020000Z
X-MICROSOFT-CDO-ALLDAYEVENT:FALSE
SUMMARY:MEMBER EVENT: Brandon Watson and the IKB Sound Concert on the Dock
DESCRIPTION:Brandon Watson & the IKB Sound take the stage at Concerts on the Dock! Huntsville native Brandon Watson is a Nashville singer-songwriter whose music has evolved in line with his musical studies across the South. His current incarnation is a medley of folk\, blues tinged progressions\, and an Alabama-soul wrenching passion like you have never heard before.\n\nConcerts on the Dock are always free\, but we ask a $2 suggested parking donation. Please carpool!\n\n\n\nConcerts on the Dock has grown from a small gathering of music lovers to an institution in the Huntsville music scene since the first note was struck in 2008. This free\, family-friendly series is all about creating a laid back atmosphere for friends of Lowe Mill to enjoy original content and interesting new acts\, Friday nights during the Spring and Fall. Bring chairs\, picnics\, friends and pets on a leash and join us under the water tower!
X-ALT-DESC;FMTTYPE=text/html:<p><br />\n<span style="font-size:14px\;"><span style="font-family: arial\;"><a href="http://theikblabel.com/" style="margin: 0px\; padding: 0px\; border: 0px\; font-family: inherit\; font-size: inherit\; font-style: inherit\; font-variant: inherit\; font-weight: inherit\; font-stretch: inherit\; line-height: inherit\; vertical-align: baseline\; text-decoration: none\; color: rgb(51\, 51\, 51)\;">Brandon Watson &amp\; the IKB Sound&nbsp\;</a>take the stage at <strong>Concerts on the Dock</strong>!&nbsp\;Huntsville native <a href="https://www.facebook.com/BrandonWatsonMusic" style="margin: 0px\; padding: 0px\; border: 0px\; font-family: inherit\; font-size: inherit\; font-style: inherit\; font-variant: inherit\; font-weight: inherit\; font-stretch: inherit\; line-height: inherit\; vertical-align: baseline\; text-decoration: none\; color: rgb(51\, 51\, 51)\;">Brandon</a><a href="https://www.facebook.com/BrandonWatsonMusic" style="margin: 0px\; padding: 0px\; border: 0px\; font-family: inherit\; font-size: inherit\; font-style: inherit\; font-variant: inherit\; font-weight: inherit\; font-stretch: inherit\; line-height: inherit\; vertical-align: baseline\; text-decoration: none\; color: rgb(51\, 51\, 51)\;"> Watson</a>&nbsp\;is a Nashville singer-songwriter whose music has evolved in line with his musical studies across the South. His current incarnation is a medley of folk\, blues tinged progressions\, and an Alabama-soul wrenching passion like you have never heard before.</span></span></p>\n\n<p><span style="font-size:14px\;"><span style="font-family: arial\;">Concerts on the Dock are always free\, but we ask a $2 suggested parking donation. Please carpool!</span></span></p>\n\n<p><br />\n<em><span style="font-size:14px\;"><span style="font-family: arial\;">Concerts on the Dock has grown from a small gathering of music lovers to an institution in the Huntsville music scene since the first note was struck in 2008. This free\, family-friendly series is all about creating a laid back atmosphere for friends of Lowe Mill to enjoy original content and interesting new acts\,&nbsp\;Friday&nbsp\;nights during the Spring and Fall. Bring chairs\, picnics\, friends and pets on a leash and join us under the water tower!</span></span></em></p>\n\n<p>&nbsp\;</p>\n
LOCATION:Lowe Mill ARTS & Entertainment 2211 Seminole Drive Huntsville\, AL 35805
UID:e.2112.3330
SEQUENCE:3
DTSTAMP:20260419T211702Z
URL:https://cm.hsvchamber.org/events/details/member-event-brandon-watson-and-the-ikb-sound-concert-on-the-dock-10-02-2015-3330
END:VEVENT

END:VCALENDAR
