BEGIN:VCALENDAR
VERSION:2.0
PRODID:-//ChamberMaster//Event Calendar 2.0//EN
METHOD:PUBLISH
X-PUBLISHED-TTL:P3D
REFRESH-INTERVAL:P3D
CALSCALE:GREGORIAN
BEGIN:VEVENT
DTSTART:20210211T150000Z
DTEND:20210211T170000Z
X-MICROSOFT-CDO-ALLDAYEVENT:FALSE
SUMMARY:MEMBER EVENT: BMSS Presents Transforming Your Business Through EOS
DESCRIPTION:The best entrepreneurs know when it's time to shift gears and charge forward with confidence instead of holding back out of fear. The Entrepreneurial Operating System  is a complete system that will help you better prepare for obstacles and opportunities\, solve issues at the root\, and gain more traction in your company. Over 80\,000 companies around the world use timeless\, practical EOS tools to run their business.\n\n\n\nImplementing EOS in 2015 allowed BMSS Advisors & CPAs to break through a ceiling and double in size. Many of our clients run on EOS and have found tremendous value in doing so. Join us for an informative and interactive webinar presented by our COO David King who is a Professional EOS Implementer . You will walk away with valuable tools you can use in your business as well as good understanding of what EOS is.
X-ALT-DESC;FMTTYPE=text/html:<br />\n<span style="font-size:16px\;">The best entrepreneurs know when it&rsquo\;s time to shift gears and charge forward with confidence instead of holding back out of fear. The Entrepreneurial Operating System&reg\; is a complete system that will help you better prepare for obstacles and opportunities\, solve issues at the root\, and gain more traction in your company. Over 80\,000 companies around the world use timeless\, practical EOS tools to run their business.<br />\n<br />\nImplementing EOS in 2015 allowed BMSS Advisors &amp\; CPAs to break through a ceiling and double in size. Many of our clients run on EOS and have found tremendous value in doing so. Join us for an informative and interactive webinar presented by our COO David King who is a Professional EOS Implementer&reg\;. You will walk away with valuable tools you can use in your business as well as good understanding of what EOS is.</span>
LOCATION:Virtual event
UID:e.2112.12015
SEQUENCE:3
DTSTAMP:20260421T151244Z
URL:https://cm.hsvchamber.org/events/details/member-event-bmss-presents-transforming-your-business-through-eos-12015
END:VEVENT

END:VCALENDAR
