BEGIN:VCALENDAR
VERSION:2.0
PRODID:-//ChamberMaster//Event Calendar 2.0//EN
METHOD:PUBLISH
X-PUBLISHED-TTL:P3D
REFRESH-INTERVAL:P3D
CALSCALE:GREGORIAN
BEGIN:VEVENT
DTSTART:20230918T133000Z
DTEND:20230918T153000Z
X-MICROSOFT-CDO-ALLDAYEVENT:FALSE
SUMMARY:MEMBER EVENT: BMSS Presents: Professional Ethics Update with Mike Brand
DESCRIPTION:With the Alabama CPE deadline fast approaching\, please join BMSS' very own talented and engaging Mike Brand as he discusses professional ethics\, what that means and how it affects the accounting profession. This course will fulfill the 2.0-hour ethics requirement for Alabama CPAs.\n\n\n\nRegister HERE
X-ALT-DESC;FMTTYPE=text/html:<span style="font-size:16px\;">With the Alabama CPE deadline fast approaching\, please join BMSS&rsquo\; very own talented and engaging Mike Brand as he discusses professional ethics\, what that means and how it affects the accounting profession. This course will fulfill the 2.0-hour ethics requirement for Alabama CPAs.<br />\n<br />\nRegister <a href="https://info.bmss.com/bmss-presents-ethicsmb"><strong>HERE</strong></a></span><br />\n&nbsp\;
LOCATION:Webinar
UID:e.2112.16006
SEQUENCE:3
DTSTAMP:20260424T053458Z
URL:https://cm.hsvchamber.org/events/details/member-event-bmss-presents-professional-ethics-update-with-mike-brand-16006
END:VEVENT

END:VCALENDAR
