BEGIN:VCALENDAR
VERSION:2.0
PRODID:-//ChamberMaster//Event Calendar 2.0//EN
METHOD:PUBLISH
X-PUBLISHED-TTL:P3D
REFRESH-INTERVAL:P3D
CALSCALE:GREGORIAN
BEGIN:VEVENT
DTSTART:20210304T150000Z
DTEND:20210304T170000Z
X-MICROSOFT-CDO-ALLDAYEVENT:FALSE
SUMMARY:MEMBER EVENT: BMSS Presents Maximizing the Employee Retention Tax Credit
DESCRIPTION:The Employee Retention Credit (ERC) under the CARES Act encourages businesses to keep employees on their payroll. Join us on March 4 as we discuss the complexities of this credit and how to take advantage of it for your business.\n\n\n\nRegistration is required. CPE will be available two to three weeks following the webinar.
X-ALT-DESC;FMTTYPE=text/html:<br />\n<span style="font-size:16px\;">The Employee Retention Credit (ERC) under the CARES Act encourages businesses to keep employees on their payroll. Join us on March 4 as we discuss the complexities of this credit and how to take advantage of it for your business.<br />\n<br />\nRegistration is required. CPE will be available two to three weeks following the webinar.</span>
LOCATION:Virtual event
UID:e.2112.12122
SEQUENCE:3
DTSTAMP:20260421T133621Z
URL:https://cm.hsvchamber.org/events/details/member-event-bmss-presents-maximizing-the-employee-retention-tax-credit-12122
END:VEVENT

END:VCALENDAR
