BEGIN:VCALENDAR
VERSION:2.0
PRODID:-//ChamberMaster//Event Calendar 2.0//EN
METHOD:PUBLISH
X-PUBLISHED-TTL:P3D
REFRESH-INTERVAL:P3D
CALSCALE:GREGORIAN
BEGIN:VEVENT
DTSTART:20220505T143000Z
DTEND:20220505T163000Z
X-MICROSOFT-CDO-ALLDAYEVENT:FALSE
SUMMARY:MEMBER EVENT: BMSS presents Implementing the New GAAP Lease Standards
DESCRIPTION:After a number of delays and postponements\, Accounting Standards Codification (ASC) 842\, Leases\, is finally here. Join us as Mike Cheng\, National Professional Practice Partner with Frazier & Deeter\, and former Senior Project Manager at the Financial Accounting Standards Board discusses how the Lease accounting standard will change\, the rules surrounding the standard\, and how you can prepare for its implementation.
X-ALT-DESC;FMTTYPE=text/html:<p><span style="font-size:16px\;">After a number of delays and postponements\, Accounting Standards Codification (ASC) 842\, Leases\, is finally here. Join us as Mike Cheng\, National Professional Practice Partner with Frazier &amp\; Deeter\, and former Senior Project Manager at the Financial Accounting Standards Board discusses how the Lease accounting standard will change\, the rules surrounding the standard\, and how you can prepare for its implementation.</span></p>\n
LOCATION:Webinar
UID:e.2112.13531
SEQUENCE:3
DTSTAMP:20260424T181143Z
URL:https://cm.hsvchamber.org/events/details/member-event-bmss-presents-implementing-the-new-gaap-lease-standards-13531
END:VEVENT

END:VCALENDAR
