BEGIN:VCALENDAR
VERSION:2.0
PRODID:-//ChamberMaster//Event Calendar 2.0//EN
METHOD:PUBLISH
X-PUBLISHED-TTL:P3D
REFRESH-INTERVAL:P3D
CALSCALE:GREGORIAN
BEGIN:VEVENT
DTSTART:20230808T133000Z
DTEND:20230808T150000Z
X-MICROSOFT-CDO-ALLDAYEVENT:FALSE
SUMMARY:MEMBER EVENT: BMSS Presents: Cyber & HR Solutions – Construction
DESCRIPTION:In today's age\, cybersecurity and human resources are crucial factors for any business\, regardless of its nature. And with the pandemic\, their significance has only increased. Join us as our technology and human resources experts explore the latest and most significant topics that impact the construction industry.\n\n\n\nRegister HERE
X-ALT-DESC;FMTTYPE=text/html:<span style="font-size:16px\;">In today&rsquo\;s age\, cybersecurity and human resources are crucial factors for any business\, regardless of its nature. And with the pandemic\, their significance has only increased. Join us as our technology and human resources experts explore the latest and most significant topics that impact the construction industry.<br />\n<br />\nRegister <a href="https://info.bmss.com/bmss-presents-cyberhrconstruction-0-0"><strong>HERE</strong></a></span><br />\n&nbsp\;
LOCATION:Webinar
UID:e.2112.16004
SEQUENCE:3
DTSTAMP:20260424T040529Z
URL:https://cm.hsvchamber.org/events/details/member-event-bmss-presents-cyber-hr-solutions-construction-16004
END:VEVENT

END:VCALENDAR
