BEGIN:VCALENDAR
VERSION:2.0
PRODID:-//ChamberMaster//Event Calendar 2.0//EN
METHOD:PUBLISH
X-PUBLISHED-TTL:P3D
REFRESH-INTERVAL:P3D
CALSCALE:GREGORIAN
BEGIN:VEVENT
DTSTART:20230523T133000Z
DTEND:20230523T150000Z
X-MICROSOFT-CDO-ALLDAYEVENT:FALSE
SUMMARY:MEMBER EVENT: BMSS Presents - An Employee Benefit Plan Update
DESCRIPTION:Join us as professionals from Advo(k)ate Advisors and BMSS discuss general retirement industry updates as well as hot trends and topics from the IRS and Department of Labor. Attendees will also hear perspectives\, pitfalls and problems experienced while working with retirement plans.\n\n\n\nAfter registering\, you will receive a confirmation email containing information about joining the webinar. Please do not share your link as it is unique to you in providing CPE credit.\n\n\n\nPlease click "Add to Calendar" in the confirmation email. This will save the link in your calendar appointment.
X-ALT-DESC;FMTTYPE=text/html:<span style="font-size:16px\;">Join us as professionals from Advo(k)ate Advisors and BMSS discuss general retirement industry updates as well as hot trends and topics from the IRS and Department of Labor. Attendees will also hear perspectives\, pitfalls and problems experienced while working with retirement plans.<br />\n<br />\nAfter registering\, you will receive a confirmation email containing information about joining the webinar. Please do not share your link as it is <strong>unique</strong> to you in providing <strong>CPE credit</strong>.<br />\n<br />\nPlease click &ldquo\;<strong>Add to Calendar</strong>&rdquo\; in the confirmation email. This will save the link in your calendar appointment.</span>\n<p>&nbsp\;</p>\n
LOCATION:Webinar
UID:e.2112.14425
SEQUENCE:3
DTSTAMP:20260423T232349Z
URL:https://cm.hsvchamber.org/events/details/member-event-bmss-presents-an-employee-benefit-plan-update-14425
END:VEVENT

END:VCALENDAR
