BEGIN:VCALENDAR
VERSION:2.0
PRODID:-//ChamberMaster//Event Calendar 2.0//EN
METHOD:PUBLISH
X-PUBLISHED-TTL:P3D
REFRESH-INTERVAL:P3D
CALSCALE:GREGORIAN
BEGIN:VEVENT
DTSTART:20230713T133000Z
DTEND:20230713T150000Z
X-MICROSOFT-CDO-ALLDAYEVENT:FALSE
SUMMARY:MEMBER EVENT: BMSS Presents An Economic Update
DESCRIPTION:Join us as we hear economic perspectives from Anoop Mishra\, VP and regional executive for the Federal Reserve Bank of Atlanta (Birmingham Branch) and John Norris\, Oakworth Capital Bank's managing director and head of Wealth & Investments.
X-ALT-DESC;FMTTYPE=text/html:<span style="font-size:16px\;">Join us as we hear economic perspectives from <strong>Anoop Mishra</strong>\, VP and regional executive for the Federal Reserve Bank of Atlanta (Birmingham Branch) and <strong>John Norris</strong>\, Oakworth Capital Bank&rsquo\;s managing director and head of Wealth &amp\; Investments.</span><br />\n&nbsp\;
LOCATION:Webinar
UID:e.2112.15490
SEQUENCE:3
DTSTAMP:20260424T015909Z
URL:https://cm.hsvchamber.org/events/details/member-event-bmss-presents-an-economic-update-07-13-2023-15490
END:VEVENT

END:VCALENDAR
