BEGIN:VCALENDAR
VERSION:2.0
PRODID:-//ChamberMaster//Event Calendar 2.0//EN
METHOD:PUBLISH
X-PUBLISHED-TTL:P3D
REFRESH-INTERVAL:P3D
CALSCALE:GREGORIAN
BEGIN:VEVENT
DTSTART:20221103T133000Z
DTEND:20221103T150000Z
X-MICROSOFT-CDO-ALLDAYEVENT:FALSE
SUMMARY:MEMBER EVENT: BMSS Presents: A Governmental & Municipalities Update
DESCRIPTION:Join us as our top-notch governmental and municipalities team discusses new and existing accounting rules and regulations that may be affecting your industry. This 90-minute presentation will cover a variety of topics and issues that you face every day in your efforts to stay transparent and accountable.
X-ALT-DESC;FMTTYPE=text/html:<span style="font-size:16px\;">Join us as our top-notch governmental and municipalities team discusses new and existing accounting rules and regulations that may be affecting your industry. This 90-minute presentation will cover a variety of topics and issues that you face every day in your efforts to stay transparent and accountable.</span>
LOCATION:Webinar
UID:e.2112.13696
SEQUENCE:3
DTSTAMP:20260421T053602Z
URL:https://cm.hsvchamber.org/events/details/member-event-bmss-presents-a-governmental-municipalities-update-13696
END:VEVENT

END:VCALENDAR
