BEGIN:VCALENDAR
VERSION:2.0
PRODID:-//ChamberMaster//Event Calendar 2.0//EN
METHOD:PUBLISH
X-PUBLISHED-TTL:P3D
REFRESH-INTERVAL:P3D
CALSCALE:GREGORIAN
BEGIN:VEVENT
DTSTART:20230330T213000Z
DTEND:20230331T003000Z
X-MICROSOFT-CDO-ALLDAYEVENT:FALSE
SUMMARY:MEMBER EVENT: Biergarten Stein & Dine
DESCRIPTION:Biergarten is back! Bring your friends and family to the Davidson Center for Space Exploration on select Thursdays from March 16 through October 12 for Huntsville's favorite German Biergarten. This evening in the Saturn V Hall features a festive atmosphere\, authentic German cuisine\, drinks and live music.\n\n\n\nEntry is $5 for each guest over the age of 5 with food and drinks available for purchase.\n\n\n\nFor more information including menus and the 2023 schedule\, click HERE.
X-ALT-DESC;FMTTYPE=text/html:<span style="font-size:16px\;"><span class="form-label" id="ctl00_eTAMContent_lblComentary">Biergarten is back! Bring your friends and family to the Davidson Center for Space Exploration on select Thursdays from March 16 through October 12 for Huntsville&#39\;s favorite German Biergarten. This evening in the Saturn V Hall features a festive atmosphere\, authentic German cuisine\, drinks and live music.<br />\n<br />\nEntry is $5 for each guest over the age of 5 with food and drinks available for purchase.</span><br />\n<br />\n<strong>For more information including menus and the 2023 schedule\, click <a href="https://rocketcenter.com/biergarten">HERE</a>.</strong></span><br />\n&nbsp\;
LOCATION:U.S. Space & Rocket Center Davidson Center
UID:e.2112.14378
SEQUENCE:3
DTSTAMP:20260423T201952Z
URL:https://cm.hsvchamber.org/events/details/member-event-biergarten-stein-dine-03-30-2023-14378
END:VEVENT

END:VCALENDAR
