BEGIN:VCALENDAR
VERSION:2.0
PRODID:-//ChamberMaster//Event Calendar 2.0//EN
METHOD:PUBLISH
X-PUBLISHED-TTL:P3D
REFRESH-INTERVAL:P3D
CALSCALE:GREGORIAN
BEGIN:VEVENT
DTSTART:20230413T223000Z
DTEND:20230414T010000Z
X-MICROSOFT-CDO-ALLDAYEVENT:FALSE
SUMMARY:MEMBER EVENT: Aumpalooza
DESCRIPTION:JOIN US FOR AN EVENING OF FUN!\n\n\n\nAumpalooza is Aum Foundation's spring fundraiser filled with fun and in support of a great cause. Join us for an evening of delicious food\, high-end tequila tasting\, wine tasting\, and a cigar lounge while you hear about the impact the Aum Foundation is having on at-risk girls in our community.
X-ALT-DESC;FMTTYPE=text/html:<span style="font-size:16px\;">JOIN US FOR AN EVENING OF FUN!<br />\n<br />\n<strong>Aumpalooza</strong> is Aum Foundation&#39\;s spring fundraiser filled with fun and in support of a great cause. Join us for an evening of delicious food\, high-end tequila tasting\, wine tasting\, and a cigar lounge while you hear about the impact the Aum Foundation is having on at-risk girls in our community.</span><br />\n&nbsp\;
LOCATION:On the Spot Auto Detailing
UID:e.2112.14126
SEQUENCE:3
DTSTAMP:20260423T214547Z
URL:https://cm.hsvchamber.org/events/details/member-event-aumpalooza-14126
END:VEVENT

END:VCALENDAR
