BEGIN:VCALENDAR
VERSION:2.0
PRODID:-//ChamberMaster//Event Calendar 2.0//EN
METHOD:PUBLISH
X-PUBLISHED-TTL:P3D
REFRESH-INTERVAL:P3D
CALSCALE:GREGORIAN
BEGIN:VEVENT
DTSTART:20221111T170000Z
DTEND:20221112T040000Z
X-MICROSOFT-CDO-ALLDAYEVENT:FALSE
SUMMARY:MEMBER EVENT: Amerigo Huntsville + Still Serving Veterans Promotion
DESCRIPTION:Salute and celebrate America's veterans at Amerigo Huntsville!\n\n\n\nAmerigo is partnering with Still Serving Veterans to support and honor Veterans\, their families\, and their communities. A portion of Amerigo's sales during the week of November 7-13 will be donated to Still Serving Veterans of Huntsville\, Ala.
X-ALT-DESC;FMTTYPE=text/html:<span style="font-size:16px\;">Salute and celebrate America&rsquo\;s veterans at <strong>Amerigo Huntsville</strong>!<br />\n<br />\nAmerigo is partnering with <strong>Still Serving Veterans</strong> to support and honor Veterans\, their families\, and their communities. A portion of Amerigo&rsquo\;s sales during the week of November 7-13 will be donated to Still Serving Veterans of Huntsville\, Ala.</span>
LOCATION:Amerigo Huntsville
UID:e.2112.13739
SEQUENCE:3
DTSTAMP:20260421T054033Z
URL:https://cm.hsvchamber.org/events/details/member-event-amerigo-huntsville-still-serving-veterans-promotion-13739
END:VEVENT

END:VCALENDAR
