BEGIN:VCALENDAR
VERSION:2.0
PRODID:-//ChamberMaster//Event Calendar 2.0//EN
METHOD:PUBLISH
X-PUBLISHED-TTL:P3D
REFRESH-INTERVAL:P3D
CALSCALE:GREGORIAN
BEGIN:VEVENT
DTSTART:20221119T140000Z
DTEND:20221119T200000Z
X-MICROSOFT-CDO-ALLDAYEVENT:FALSE
SUMMARY:MEMBER EVENT: American Portfolio Mortgage Chili Cook-Off
DESCRIPTION:Come help us meet the needs of those in the community!\n\n\n\nOur first Chili Cook-Off which will be used to help feed hungry families in Madison County and surrounding areas will be held on November 19. We would love for you to participate by entering a team to cook Chili or even by attending our event!\n\n\n\nIf you are able to enter a team\, there is no entry fee   we just ask that you cook at least 5 gallons of chili at the event. All chili must be ready by noon when we open gates to the public. \n\n\n\nIf you are unable to cook but want to attend\, the entry fee will be a donation of any size to Madison United INC. This entry fee will allow you to eat chili and fellowship with those at the event.\n\n\n\nAll donations made that day will be used to provide Christmas gifts for those less fortunate in our area. We would love to see you there! If you cannot attend the event\, but would like to become a sponsor to help with our cause there is an option for that as well HERE.
X-ALT-DESC;FMTTYPE=text/html:<span style="font-size:16px\;">Come help us meet the needs of those in the community!<br />\n<br />\nOur first <strong>Chili Cook-Off</strong> which will be used to help feed hungry families in Madison County and surrounding areas will be held on November 19. We would love for you to participate by entering a team to cook Chili or even by attending our event!<br />\n<br />\nIf you are able to <strong>enter a team</strong>\, there is no entry fee &ndash\; we just ask that you cook at least 5 gallons of chili at the event. All chili must be ready by noon when we open gates to the public.&nbsp\;</span><br />\n<br />\n<span style="font-size:16px\;">If you are unable to cook but want to attend\, the entry fee will be a donation of any size to Madison United INC. This entry fee will allow you to eat chili and fellowship with those at the event.<br />\n<br />\nAll donations made that day will be used to provide Christmas gifts for those less fortunate in our area. We would love to see you there! If you cannot attend the event\, but would like to become a <strong>sponsor</strong> to help with our cause there is an option for that as well <a href="https://docs.google.com/forms/d/1WSXmSRpdd3SRVFBLC7H8fe3N0ApuCj0DF63PUKaxqg4/edit"><strong>HERE</strong></a>.</span><br />\n&nbsp\;
LOCATION:Westminster Christian Academy Softball/Baseball parking lot
UID:e.2112.13735
SEQUENCE:3
DTSTAMP:20260421T053853Z
URL:https://cm.hsvchamber.org/events/details/member-event-american-portfolio-mortgage-chili-cook-off-13735
END:VEVENT

END:VCALENDAR
