BEGIN:VCALENDAR
VERSION:2.0
PRODID:-//ChamberMaster//Event Calendar 2.0//EN
METHOD:PUBLISH
X-PUBLISHED-TTL:P3D
REFRESH-INTERVAL:P3D
CALSCALE:GREGORIAN
BEGIN:VEVENT
DTSTART:20210630T050000Z
DTEND:20210630T050000Z
X-MICROSOFT-CDO-ALLDAYEVENT:FALSE
SUMMARY:MEMBER EVENT: Alabama Metal Art Business Sign Contest 2021
DESCRIPTION:Alabama Metal Art is having a Business Sign Contest! Submit HERE for your chance to win a custom business sign up to $1\,500 in value from your friends at Alabama Metal Art. Here at Alabama Metal Art\, we create custom\, unique business signs out of various types of metal. Our signs have been featured in businesses all across the USA.\n\n\n\nAbout the 2021 Business Sign Contest:\n\nBusinesses will have the opportunity to submit their business logo for a chance to win a custom sign valued up to $1\,500. The contest will close on July 5 at Midnight/CST. The Alabama Metal Art Team will select (3) potential logo winners from the submissions. After the submission process closes\, the public will have the opportunity to cast their vote on their favorite logo. Voting will open on July 8 and will close on July 15. The winner will be chosen and notified on July 16 via email.\n\n\n\nAlabama Metal Art Team  | Division of Tri-State Metals\, INC.\n\n409 Gerrard Dr. Florence\, AL 35630\n\n256-246-0001
X-ALT-DESC;FMTTYPE=text/html:<span style="font-size:16px\;">Alabama Metal Art is having a Business Sign Contest! Submit <a href="http://alabamametalart.com/giveaway"><strong>HERE</strong></a> for your chance to win a custom business sign up to $1\,500 in value from your friends at Alabama Metal Art. Here at Alabama Metal Art\, we create custom\, unique business signs out of various types of metal. Our signs have been featured in businesses all across the USA.<br />\n<br />\n<strong><em>About the 2021 Business Sign Contest:</em></strong><br />\n<em>Businesses will have the opportunity to submit their business logo for a chance to win a custom sign valued up to $1\,500. The contest will close on July 5 at Midnight/CST. The Alabama Metal Art Team will select (3) potential logo winners from the submissions. After the submission process closes\, the public will have the opportunity to cast their vote on their favorite logo. Voting will open on July 8 and will close on July 15. The winner will be chosen and notified on July 16 via email.</em><br />\n<br />\nAlabama Metal Art Team&nbsp\; | Division of Tri-State Metals\, INC.<br />\n409 Gerrard Dr. Florence\, AL 35630<br />\n256-246-0001</span>
LOCATION:Florence\, Alabama
UID:e.2112.13051
SEQUENCE:3
DTSTAMP:20260421T085928Z
URL:https://cm.hsvchamber.org/events/details/member-event-alabama-metal-art-business-sign-contest-2021-13051
END:VEVENT

END:VCALENDAR
