BEGIN:VCALENDAR
VERSION:2.0
PRODID:-//ChamberMaster//Event Calendar 2.0//EN
METHOD:PUBLISH
X-PUBLISHED-TTL:P3D
REFRESH-INTERVAL:P3D
CALSCALE:GREGORIAN
BEGIN:VEVENT
DTSTART:20221105T120000Z
DTEND:20221105T153000Z
X-MICROSOFT-CDO-ALLDAYEVENT:FALSE
SUMMARY:MEMBER EVENT: Alabama Credit Union's Secret Meals 5K Run/Walk
DESCRIPTION:On November 5th\, join us in the fight against hunger and participate in the 8th Annual Secret Meals 5K. This event will be held on UAH's campus in Huntsville\, and we encourage participants of all ages and abilities. One hundred percent of the proceeds from this event will provide weekend food packs to help feed children in north Alabama\, through the Secret Meals For Hungry Children program.\n\n\n\nRace participants will receive a t-shirt\, swag bag\, and medal once they cross the finish line. The top three male and female finishers for the 5K will receive a prize.
X-ALT-DESC;FMTTYPE=text/html:<span style="font-size:16px">On November 5th\, join us in the fight against hunger and participate in the <strong>8th Annual Secret Meals 5K</strong>. This event will be held on UAH&rsquo\;s campus in Huntsville\, and we encourage participants of all ages and abilities. One hundred percent of the proceeds from this event will provide weekend food packs to help feed children in north Alabama\, through the Secret Meals For Hungry Children program.<br />\n<br />\nRace participants will receive a t-shirt\, swag bag\, and medal once they cross the finish line. The top three male and female finishers for the 5K will receive a prize.</span><br />\n<br />\n&nbsp\;
LOCATION:UAH Alabama Credit Union See on Google Maps
UID:e.2112.13666
SEQUENCE:3
DTSTAMP:20260421T054011Z
URL:https://cm.hsvchamber.org/events/details/member-event-alabama-credit-union-s-secret-meals-5k-run-walk-13666
END:VEVENT

END:VCALENDAR
