BEGIN:VCALENDAR
VERSION:2.0
PRODID:-//ChamberMaster//Event Calendar 2.0//EN
METHOD:PUBLISH
X-PUBLISHED-TTL:P3D
REFRESH-INTERVAL:P3D
CALSCALE:GREGORIAN
BEGIN:VEVENT
DTSTART:20230506T160000Z
DTEND:20230506T190000Z
X-MICROSOFT-CDO-ALLDAYEVENT:FALSE
SUMMARY:MEMBER EVENT: A History-Making Mother's Day Celebration!
DESCRIPTION:Celebrate the best moms in history with the Historic Huntsville Foundation!\n\n\n\nMemory-making activities for this FREE\, family-friendly event include: \n\n	"Make-N-Take" Mother's Day cards featuring Huntsville landmarks from HHF's "Color Me Huntsville" coloring book\n	Harrison Brothers Hardware Scavenger Hunt\n	Guided tours of the "Brick by Brick: The Legacy of Henderson and Daniel Brandon" Exhibition! \n\n\n\nAnd remember\, parking is FREE on Saturdays!
X-ALT-DESC;FMTTYPE=text/html:<span style="font-size:16px\;">Celebrate the best moms in history with the Historic Huntsville Foundation!<br />\n<br />\nMemory-making activities for this FREE\, family-friendly event include: </span>\n<ul>\n	<li><span style="font-size:16px\;">&ldquo\;Make-N-Take&quot\; Mother&rsquo\;s Day cards featuring Huntsville landmarks from HHF&rsquo\;s &ldquo\;Color Me Huntsville&rdquo\; coloring book</span></li>\n	<li><span style="font-size:16px\;">Harrison Brothers Hardware Scavenger Hunt</span></li>\n	<li><span style="font-size:16px\;">Guided tours of the &ldquo\;Brick by Brick: The Legacy of Henderson and Daniel Brandon&rdquo\; Exhibition! </span></li>\n</ul>\n<br />\n<span style="font-size:16px\;">And remember\, parking is FREE on Saturdays!</span><br />\n&nbsp\;
LOCATION:Harrison Brothers Hardware
UID:e.2112.14423
SEQUENCE:3
DTSTAMP:20260423T232457Z
URL:https://cm.hsvchamber.org/events/details/member-event-a-history-making-mother-s-day-celebration-14423
END:VEVENT

END:VCALENDAR
