BEGIN:VCALENDAR
VERSION:2.0
PRODID:-//ChamberMaster//Event Calendar 2.0//EN
METHOD:PUBLISH
X-PUBLISHED-TTL:P3D
REFRESH-INTERVAL:P3D
CALSCALE:GREGORIAN
BEGIN:VEVENT
DTSTART:20260418T230000Z
DTEND:20260419T030000Z
X-MICROSOFT-CDO-ALLDAYEVENT:FALSE
SUMMARY:MEMBER EVENT: 8th Annual Book Ball\, A Galactic Gala
DESCRIPTION:The Junior League of Huntsville invites you to our premier spring fundraiser event! Join us for a night that's out of this world at the 8th Annual Book Ball\, A Galactic Gala.\n\n\n\nHeld under the rocket at the iconic U.S. Space & Rocket Center\, this interstellar evening will feature cosmic cuisine\, stellar entertainment\, and a mission to make a galactic impact. There will be dinner\, drinks\, dancing\, games\, and our highly anticipated silent auction. This will surely be an evening that you do not want to miss!\n\n\n\nBy attending the Book Ball\, you are contributing to a cause that reaches beyond the evening's festivities. Your support aids the Junior League of Huntsville's mission\, including our community programs like The Butterfly Project and Project Impact.
X-ALT-DESC;FMTTYPE=text/html:<span style="font-size:16px\;">The Junior League of Huntsville invites you to our premier spring fundraiser event! Join us for a night that&rsquo\;s out of this world at the 8th Annual<strong> Book Ball\, A Galactic Gala.</strong><br />\n<br />\nHeld under the rocket at the iconic U.S. Space &amp\; Rocket Center\, this interstellar evening will feature cosmic cuisine\, stellar entertainment\, and a mission to make a galactic impact. There will be dinner\, drinks\, dancing\, games\, and our highly anticipated silent auction. This will surely be an evening that you do not want to miss!<br />\n<br />\nBy attending the Book Ball\, you are contributing to a cause that reaches beyond the evening&rsquo\;s festivities. Your support aids the Junior League of Huntsville&rsquo\;s mission\, including our community programs like The Butterfly Project and Project Impact.</span><br />\n&nbsp\;
LOCATION:U.S. Space & Rocket Center Davidson Center
UID:e.2112.18404
SEQUENCE:3
DTSTAMP:20260422T161410Z
URL:https://cm.hsvchamber.org/events/details/member-event-8th-annual-book-ball-a-galactic-gala-18404
END:VEVENT

END:VCALENDAR
