BEGIN:VCALENDAR
VERSION:2.0
PRODID:-//ChamberMaster//Event Calendar 2.0//EN
METHOD:PUBLISH
X-PUBLISHED-TTL:P3D
REFRESH-INTERVAL:P3D
CALSCALE:GREGORIAN
BEGIN:VEVENT
DTSTART:20151022T130000Z
DTEND:20151022T170000Z
X-MICROSOFT-CDO-ALLDAYEVENT:FALSE
SUMMARY:MEMBER EVENT: 4-hour RCRA Refresher
DESCRIPTION:Resource Conservation Recovery Act (RCRA) - 4 Hour Refresher\n\n\n\nThis program will meet the recurrent training requirements for RCRA 40 CFR 265.16. Learn important concepts and procedures required for compliance with hazardous waste (EPA/RCRA) regulations. Includes a review of new requirements and Alabama hazardous waste regulations that are different from the federal regulations.
X-ALT-DESC;FMTTYPE=text/html:<br />\n<span style="font-size:14px\;"><span style="font-family:arial\;"><strong>Resource Conservation Recovery Act (RCRA)</strong> - 4 Hour Refresher<br />\n<br />\nThis program will meet the recurrent training requirements for RCRA 40 CFR 265.16. Learn important concepts and procedures required for compliance with hazardous waste (EPA/RCRA) regulations. Includes a review of new requirements and Alabama hazardous waste regulations that are different from the federal regulations.</span></span>
LOCATION:Sponsored by CAER of Metro Huntsville at ADTRAN
UID:e.2112.4900
SEQUENCE:3
DTSTAMP:20260419T205718Z
URL:https://cm.hsvchamber.org/events/details/member-event-4-hour-rcra-refresher-10-22-2015-4900
END:VEVENT

END:VCALENDAR
