BEGIN:VCALENDAR
VERSION:2.0
PRODID:-//ChamberMaster//Event Calendar 2.0//EN
METHOD:PUBLISH
X-PUBLISHED-TTL:P3D
REFRESH-INTERVAL:P3D
CALSCALE:GREGORIAN
BEGIN:VEVENT
DTSTART:20151022T180000Z
DTEND:20151022T220000Z
X-MICROSOFT-CDO-ALLDAYEVENT:FALSE
SUMMARY:MEMBER EVENT: 4-hour DOT Refresher
DESCRIPTION:DOT Hazardous Materials General Awareness\n\n49 CFR   172\, Subpart H (4 hours) \n\nCompanies transporting hazardous materials must ensure their employees are trained in accordance with the Department of Transportation (DOT) regulations and guidelines. This program meets the requirements for recurrent training per DOT 49 CFR 172.704. Includes important concepts and procedures required for compliance with hazardous materials transport regulations.
X-ALT-DESC;FMTTYPE=text/html:<p><br />\n<span style="font-size:14px\;"><span style="font-family:arial\;"><strong>DOT Hazardous Materials General Awareness</strong><br />\n49 CFR &sect\; 172\, Subpart H&nbsp\;(4 hours)&nbsp\;</span></span></p>\n\n<p><span style="font-size:14px\;"><span style="font-family:arial\;">Companies transporting hazardous materials must ensure their employees are trained in accordance with the Department of Transportation (DOT) regulations and guidelines. This program meets the requirements for recurrent training per DOT 49 CFR 172.704. Includes important concepts and procedures required for compliance with hazardous materials transport regulations.</span></span></p>\n
LOCATION:Sponsored by CAER of Metro Huntsville at ADTRAN
UID:e.2112.4901
SEQUENCE:3
DTSTAMP:20260419T205318Z
URL:https://cm.hsvchamber.org/events/details/member-event-4-hour-dot-refresher-10-22-2015-4901
END:VEVENT

END:VCALENDAR
