BEGIN:VCALENDAR
VERSION:2.0
PRODID:-//ChamberMaster//Event Calendar 2.0//EN
METHOD:PUBLISH
X-PUBLISHED-TTL:P3D
REFRESH-INTERVAL:P3D
CALSCALE:GREGORIAN
BEGIN:VEVENT
DTSTART:20260509T233000Z
DTEND:20260510T030000Z
X-MICROSOFT-CDO-ALLDAYEVENT:FALSE
SUMMARY:MEMBER EVENT: 37th Annual Huntsville Classic
DESCRIPTION:Huntsville Hospital Foundation's Huntsville Classic is one of north Alabama's signature philanthropic concerts\, combining live music at The Orion Amphitheater with meaningful community impact.\n\n\n\nThe 37th annual Huntsville Classic\, featuring Rob Thomas\, supports Huntsville Hospital\, Huntsville Hospital for Women & Children\, and Madison Hospital by helping equip critical patient care and services.\n\n\n\nThe 2026 Huntsville Classic is chaired by Ginger Harper and Lynn Troy. Tickets are on sale now. VIP seating and benefits are available through Huntsville Classic sponsorships.\n\n\n\nFor information about sponsorship opportunities\, contact sponsorhhf@hhsys.org.
X-ALT-DESC;FMTTYPE=text/html:<span style="font-size:16px\;">Huntsville Hospital Foundation&#39\;s <strong>Huntsville Classic</strong> is one of north Alabama&rsquo\;s signature philanthropic concerts\, combining live music at The Orion Amphitheater with meaningful community impact.<br />\n<br />\nThe 37th annual Huntsville Classic\, featuring <strong>Rob Thomas</strong>\, supports Huntsville Hospital\, Huntsville Hospital for Women &amp\; Children\, and Madison Hospital by helping equip critical patient care and services.<br />\n<br />\nThe 2026 Huntsville Classic is chaired by Ginger Harper and Lynn Troy. Tickets are on sale now. VIP seating and benefits are available through Huntsville Classic sponsorships.<br />\n<br />\nFor information about sponsorship opportunities\, contact <a href="mailto:sponsorhhf@hhsys.org?subject=2026%20Huntsville%20Classic">sponsorhhf@hhsys.org</a>.</span><br />\n&nbsp\;
LOCATION:The Orion Amphitheater
UID:e.2112.18277
SEQUENCE:3
DTSTAMP:20260423T055456Z
URL:https://cm.hsvchamber.org/events/details/member-event-37th-annual-huntsville-classic-18277
END:VEVENT

END:VCALENDAR
