BEGIN:VCALENDAR
VERSION:2.0
PRODID:-//ChamberMaster//Event Calendar 2.0//EN
METHOD:PUBLISH
X-PUBLISHED-TTL:P3D
REFRESH-INTERVAL:P3D
CALSCALE:GREGORIAN
BEGIN:VEVENT
DTSTART:20230521T010000Z
DTEND:20230521T033000Z
X-MICROSOFT-CDO-ALLDAYEVENT:FALSE
SUMMARY:MEMBER EVENT: 34th Annual Huntsville Classic
DESCRIPTION:Country superstar Martina McBride will perform at Huntsville Hospital Foundation's 34th annual Huntsville Classic on May 20 at The Orion Amphitheater! Funding raised through the 2023 Classic concert will help purchase a second dual-source cardiac CT scanner that will reduce patient wait times for diagnostic scans from up to two months to an anticipated two weeks.\n\n\n\nYour ticket purchase helps provide essential care to Huntsville Hospital Heart Center patients. Tickets are on sale now and can be purchased by clicking HERE.
X-ALT-DESC;FMTTYPE=text/html:<span style="font-size:16px\;">Country superstar Martina McBride will perform at Huntsville Hospital Foundation&#39\;s 34th annual <a href="https://www.huntsvillehospitalfoundation.org/our-events/huntsville-classic"><strong>Huntsville Classic</strong></a> on May 20 at The Orion Amphitheater! Funding raised through the 2023 Classic concert will help purchase a second dual-source cardiac CT scanner that will reduce patient wait times for diagnostic scans from up to two months to an anticipated two weeks.<br />\n<br />\nYour ticket purchase helps provide essential care to Huntsville Hospital Heart Center patients. Tickets are on sale now and can be purchased by clicking <a href="https://www.theorionhuntsville.com/events/detail/2023-huntsville-classic-with-martina-mcbride-1"><strong>HERE</strong></a>.</span><br />\n&nbsp\;
LOCATION:The Orion Amphitheater
UID:e.2112.14394
SEQUENCE:3
DTSTAMP:20260423T230454Z
URL:https://cm.hsvchamber.org/events/details/member-event-34th-annual-huntsville-classic-14394
END:VEVENT

END:VCALENDAR
