BEGIN:VCALENDAR
VERSION:2.0
PRODID:-//ChamberMaster//Event Calendar 2.0//EN
METHOD:PUBLISH
X-PUBLISHED-TTL:P3D
REFRESH-INTERVAL:P3D
CALSCALE:GREGORIAN
BEGIN:VEVENT
DTSTART:20210627T160000Z
DTEND:20210627T220000Z
X-MICROSOFT-CDO-ALLDAYEVENT:FALSE
SUMMARY:MEMBER EVENT: 2021 Entrepreneur EXPO
DESCRIPTION:CNI SOLUTIONS is hosting an Entrepreneur EXPO featuring Hunstville\, Athens\, Tanner\, and Madison Alabama's newest entrepreneurs in starting their business. To commemorate this event there will be light music\, other entrepreneur business owners showcasing their products and service as well. Come learn more about how to start or refocus your business.\n\n\n\nWe will also be serving hotdogs and hamburgers fresh from the CNI BBQ Pit Grill while supplies last. Our community-based organization (CBO) is always looking for partners and sponsors to help us continue to offer our services and support to the community.
X-ALT-DESC;FMTTYPE=text/html:<span style="font-size:16px\;">CNI SOLUTIONS is hosting an <strong>Entrepreneur EXPO</strong> featuring Hunstville\, Athens\, Tanner\, and Madison Alabama&#39\;s newest entrepreneurs in starting their business. To commemorate this event there will be light music\, other entrepreneur business owners showcasing their products and service as well. Come learn more about how to start or refocus your business.<br />\n<br />\nWe will also be serving hotdogs and hamburgers fresh from the CNI BBQ Pit Grill while supplies last. Our community-based organization (CBO) is always looking for partners and sponsors to help us continue to offer our services and support to the community.&nbsp\;</span>
LOCATION:Metro by T-Mobile
UID:e.2112.12916
SEQUENCE:3
DTSTAMP:20260421T083513Z
URL:https://cm.hsvchamber.org/events/details/member-event-2021-entrepreneur-expo-12916
END:VEVENT

END:VCALENDAR
