BEGIN:VCALENDAR
VERSION:2.0
PRODID:-//ChamberMaster//Event Calendar 2.0//EN
METHOD:PUBLISH
X-PUBLISHED-TTL:P3D
REFRESH-INTERVAL:P3D
CALSCALE:GREGORIAN
BEGIN:VEVENT
DTSTART:20150924T131500Z
DTEND:20150924T200000Z
X-MICROSOFT-CDO-ALLDAYEVENT:FALSE
SUMMARY:MEMBER EVENT: 2015 CyberSecurity Seminar
DESCRIPTION:The summit will open with remarks from the U.S. Attorney and the co-hosts. The Department of Justice Assistant Attorney General for National Security\, John Carlin\, will then present the keynote address. Panel discussion will make up the remainder of the summit. These panels will comprise subject matter expert panelists from the Department of Justice\, Department of Homeland Security\, Small Business Administration\, General Services Administration\, along with cyber specialists from private industry.\n\n\n\nPanel topics will include:\n\n\n	The Cyber Threat   Why Industry Should Care\n	The Intrusion   How to Prepare for and Respond to it\n	Threat Environment from the Field\n	Interactive feedback session   Small Business Issues\n\n\n\nDownload flier\n\n\n\nPress release
X-ALT-DESC;FMTTYPE=text/html:<br />\n<span style="font-size:14px\;"><span style="font-family: arial\;">The summit will open with remarks from the U.S. Attorney and the co-hosts. The Department of Justice Assistant Attorney General for National Security\, John Carlin\, will then present the keynote address. Panel discussion will make up the remainder of the summit. These panels will comprise subject matter expert panelists from the Department of Justice\, Department of Homeland Security\, Small Business Administration\, General Services Administration\, along with cyber specialists from private industry.<br />\n<br />\nPanel topics will include:</span></span>\n\n<ul>\n	<li><span style="font-size:14px\;"><span style="font-family: arial\;">The Cyber Threat &mdash\; Why Industry Should Care</span></span></li>\n	<li><span style="font-size:14px\;"><span style="font-family: arial\;">The Intrusion &mdash\; How to Prepare for and Respond to it</span></span></li>\n	<li><span style="font-size:14px\;"><span style="font-family: arial\;">Threat Environment from the Field</span></span></li>\n	<li><span style="font-size:14px\;"><span style="font-family: arial\;">Interactive feedback session &mdash\; Small Business Issues</span></span></li>\n</ul>\n<br />\n<span style="font-size:14px\;"><span style="font-family: arial\;"><a href="https://usaoalntraining.org/files/EBF/CyberSeminar09242015-1.pdf" target="_blank">Download flier</a></span></span><br />\n<br />\n<span style="font-size:14px\;"><a href="http://cm.hsvchamber.org/news/details/uah-hosting-dept-of-justice-cybersecurity-summit">Press release&nbsp\;</a></span><br />\n&nbsp\;
LOCATION:UAH Charger Union Theater 4705 Holmes Avenue NW Huntsville\, AL 35899
UID:e.2112.4866
SEQUENCE:3
DTSTAMP:20260419T191705Z
URL:https://cm.hsvchamber.org/events/details/member-event-2015-cybersecurity-seminar-09-24-2015-4866
END:VEVENT

END:VCALENDAR
