BEGIN:VCALENDAR
VERSION:2.0
PRODID:-//ChamberMaster//Event Calendar 2.0//EN
METHOD:PUBLISH
X-PUBLISHED-TTL:P3D
REFRESH-INTERVAL:P3D
CALSCALE:GREGORIAN
BEGIN:VEVENT
DTSTART:20230523T153000Z
DTEND:20230523T163000Z
X-MICROSOFT-CDO-ALLDAYEVENT:FALSE
SUMMARY:HREGI Ribbon Cutting: Express Employment Professionals
DESCRIPTION:Please join us for a HREGI Ribbon Cutting for Express Employment Professionals!\n\n\n\nExpress Employment Professionals of Huntsville\, Ala.\, is a leading staffing provider helping job seekers find work with a wide variety of local businesses.\n\n\n\nBecause we're locally owned\, we live in and work in this community and have a vested interest in its success. In addition to our staffing services\, our team is actively involved with a wide variety of causes and organizations that help strengthen our beautiful city.\n\n\n\nExpress Employment Professionals works with job seekers to help them find the right job for their skills and experience. We have a variety of jobs available\, and there are full-time\, part-time\, and temporary positions available. And\, as one of the leading staffing agencies in North America\, Express provides employment services and workforce solutions to employers throughout our community. Contact us today to get started on finding the right fit for you.
X-ALT-DESC;FMTTYPE=text/html:<span style="font-size:16px\;">Please join us for a HREGI Ribbon Cutting for <strong>Express Employment Professionals</strong>!</span><br />\n<br />\n<em><span style="font-size:16px\;">Express Employment Professionals of Huntsville\, Ala.\, is a leading staffing provider helping job seekers find work with a wide variety of local businesses.<br />\n<br />\nBecause we&#39\;re locally owned\, we live in and work in this community and have a vested interest in its success. In addition to our staffing services\, our team is actively involved with a wide variety of causes and organizations that help strengthen our beautiful city.<br />\n<br />\nExpress Employment Professionals works with job seekers to help them find the right job for their skills and experience. We have a variety of jobs available\, and there are full-time\, part-time\, and temporary positions available. And\, as one of the leading staffing agencies in North America\, Express provides employment services and workforce solutions to employers throughout our community. Contact us today to get started on finding the right fit for you.</span></em><br />\n&nbsp\;
LOCATION:
UID:e.2112.14441
SEQUENCE:3
DTSTAMP:20260423T232620Z
URL:https://cm.hsvchamber.org/events/details/hregi-ribbon-cutting-express-employment-professionals-14441
END:VEVENT

END:VCALENDAR
