BEGIN:VCALENDAR
VERSION:2.0
PRODID:-//ChamberMaster//Event Calendar 2.0//EN
METHOD:PUBLISH
X-PUBLISHED-TTL:P3D
REFRESH-INTERVAL:P3D
CALSCALE:GREGORIAN
BEGIN:VEVENT
DTSTART:20230502T150000Z
DTEND:20230502T160000Z
X-MICROSOFT-CDO-ALLDAYEVENT:FALSE
SUMMARY:HREGI Groundbreaking: Davidson
DESCRIPTION:Please join us for a HREGI Groundbreaking for Davidson!\n\n\n\nDavidson's mission is to design and deliver advanced\, intelligent technology solutions in defense of our Nation.\n\n\n\nOur team integrates advanced cybersecurity architectures capable of leveraging artificial intelligence and machine learning in all our solutions. We are spearheading the design of a new class of network architectures born to optimize and exploit complex AI techniques. We are delivering new capabilities leveraging our patent-pending\, unique AI-powered capabilities to amplify privacy and ensure data encryption are managed at the quantum level   resulting in greater Cyber Resilience for the defense and security of our Nation.\n\n\n\nDavidson also possesses the capability for highly advanced modeling and simulation. Davidson develops medium to high fidelity models of U.S. Missile Defense Systems and complex threat missile systems. Our MACSIS program has infrastructure interconnected with Big Data Repository for shared capabilities and machine learning. We employ a great variety of subject matter experts to allow us to create models with the highest level of accuracy.\n\n\n\nDavidson has significant experience creating complex systems for the Missile Defense Agency. We ensure that the systems used to defend our country are fortified\, functional\, and secure to the highest degree. Davidson is a trusted partner when it comes to complex engineering.
X-ALT-DESC;FMTTYPE=text/html:<span style="font-size:16px\;">Please join us for a HREGI Groundbreaking for <strong>Davidson</strong>!<br />\n<br />\n<em>Davidson&#39\;s mission is to design and deliver advanced\, intelligent technology solutions in defense of our Nation.<br />\n<br />\nOur team integrates advanced cybersecurity architectures capable of leveraging artificial intelligence and machine learning in all our solutions. We are spearheading the design of a new class of network architectures born to optimize and exploit complex AI techniques. We are delivering new capabilities leveraging our patent-pending\, unique AI-powered capabilities to amplify privacy and ensure data encryption are managed at the quantum level &ndash\; resulting in greater Cyber Resilience for the defense and security of our Nation.<br />\n<br />\nDavidson also possesses the capability for highly advanced modeling and simulation. Davidson develops medium to high fidelity models of U.S. Missile Defense Systems and complex threat missile systems. Our MACSIS program has infrastructure interconnected with Big Data Repository for shared capabilities and machine learning. We employ a great variety of subject matter experts to allow us to create models with the highest level of accuracy.<br />\n<br />\nDavidson has significant experience creating complex systems for the Missile Defense Agency. We ensure that the systems used to defend our country are fortified\, functional\, and secure to the highest degree. Davidson is a trusted partner when it comes to complex engineering.</em></span><br />\n&nbsp\;
LOCATION:
UID:e.2112.14377
SEQUENCE:3
DTSTAMP:20260421T210244Z
URL:https://cm.hsvchamber.org/events/details/hregi-groundbreaking-davidson-14377
END:VEVENT

END:VCALENDAR
