BEGIN:VCALENDAR
VERSION:2.0
PRODID:-//ChamberMaster//Event Calendar 2.0//EN
METHOD:PUBLISH
X-PUBLISHED-TTL:P3D
REFRESH-INTERVAL:P3D
CALSCALE:GREGORIAN
BEGIN:VEVENT
DTSTART:20210302T200000Z
DTEND:20210302T210000Z
X-MICROSOFT-CDO-ALLDAYEVENT:FALSE
SUMMARY:Hiring Our Heroes Discussion
DESCRIPTION:The Huntsville/Madison County Chamber will host a Zoom call with Hiring Our Heroes on March 2 from 2-3 p.m.\, and we invite you to register HERE to join us. This initiative launched through the U.S. Chamber in March 2011 as a nationwide effort to connect veterans\, service members\, and military spouses with meaningful employment opportunities.\n\n\n\nLearn about how you can hire a fellow as he or she is transitioning out of the military and see if they're a good fit for you. The salary and benefits will be covered by the Department of Defense for the duration of the program.  We are looking for at least 10 companies to join the Corporate Fellows program this year.\n\n\n\nRead about a service member recently hosted by Lockheed Martin in Huntsville   we featured this in the Chamber's April 2020 issue of Initiatives magazine.
X-ALT-DESC;FMTTYPE=text/html:<br />\n<span style="font-size:16px\;">The Huntsville/Madison County Chamber will host a Zoom call with <strong>Hiring Our Heroes</strong> on March 2 from 2-3 p.m.\, and we invite you to register <a href="http://zoom.us/meeting/register/tJEodu6uqDsqH9egyA2zV3yZuoojTsfozOlI"><strong>HERE</strong></a> to join us. This initiative launched through the U.S. Chamber in March 2011 as a nationwide effort to connect veterans\, service members\, and military spouses with meaningful employment opportunities.<br />\n<br />\nLearn about how you can hire a fellow as he or she is transitioning out of the military and see if they&#39\;re a good fit for you. The salary and benefits will be covered by the Department of Defense for the duration of the program.&nbsp\; We are looking for at least 10 companies to join the Corporate Fellows program this year.<br />\n<br />\nRead about a <a href="http://hsvchamber.org/military-workforce-hiring-our-heroes/">service member recently hosted by Lockheed Martin in Huntsville</a> &ndash\; we featured this in the Chamber&#39\;s April 2020 issue of <a href="http://issuu.com/hsvchamber/docs/04-2020_initiatives_online/36"><em>Initiatives</em></a> magazine.</span>
LOCATION:Virtual Event (Zoom) Register HERE
UID:e.2112.12127
SEQUENCE:3
DTSTAMP:20260421T133001Z
URL:https://cm.hsvchamber.org/events/details/hiring-our-heroes-discussion-12127
END:VEVENT

END:VCALENDAR
