BEGIN:VCALENDAR
VERSION:2.0
PRODID:-//ChamberMaster//Event Calendar 2.0//EN
METHOD:PUBLISH
X-PUBLISHED-TTL:P3D
REFRESH-INTERVAL:P3D
CALSCALE:GREGORIAN
BEGIN:VEVENT
DTSTART:20230609T150000Z
DTEND:20230609T153000Z
X-MICROSOFT-CDO-ALLDAYEVENT:FALSE
SUMMARY:Groundbreaking: Drake State Community & Technical College
DESCRIPTION:Please join us for a Groundbreaking for Drake State Community & Technical College!\n\n\n\nDrake State Community and Technical College offers flexible\, affordable technical and university-transfer degrees\, industry certification\, adult and continuing education\, and customized skills training to support and enhance the north Alabama community.\n\n\n\nWith Huntsville's unique blend of space and defense industries\, biotechnology\, healthcare and high-tech manufacturing\, the community has high expectations for local educational institutions. Drake State rises to the challenge of anticipating workforce demands of the future by preparing highly-skilled workers with a mix of academics and technical training programs and grant funded initiatives.\n\n\n\nDrake State is committed to preparing students with the right knowledge\, set with the right training and skills\, to go into the workforce immediately   a winning formula for the students\, the community\, and the economy.
X-ALT-DESC;FMTTYPE=text/html:<span style="font-size:16px\;">Please join us for a Groundbreaking for <strong>Drake State Community &amp\; Technical College</strong>!</span><br />\n<br />\n<span style="font-size:16px\;"><em>Drake State Community and Technical College offers flexible\, affordable technical and university-transfer degrees\, industry certification\, adult and continuing education\, and customized skills training to support and enhance the north Alabama community.<br />\n<br />\nWith Huntsville&rsquo\;s unique blend of space and defense industries\, biotechnology\, healthcare and high-tech manufacturing\, the community has high expectations for local educational institutions. Drake State rises to the challenge of anticipating workforce demands of the future by preparing highly-skilled workers with a mix of academics and technical training programs and grant funded initiatives.<br />\n<br />\nDrake State is committed to preparing students with the right knowledge\, set with the right training and skills\, to go into the workforce immediately &ndash\; a winning formula for the students\, the community\, and the economy.</em></span><br />\n&nbsp\;
LOCATION:Designated parking near Building 700.
UID:e.2112.14452
SEQUENCE:3
DTSTAMP:20260424T004425Z
URL:https://cm.hsvchamber.org/events/details/groundbreaking-drake-state-community-technical-college-14452
END:VEVENT

END:VCALENDAR
