BEGIN:VCALENDAR
VERSION:2.0
PRODID:-//ChamberMaster//Event Calendar 2.0//EN
METHOD:PUBLISH
X-PUBLISHED-TTL:P3D
REFRESH-INTERVAL:P3D
CALSCALE:GREGORIAN
BEGIN:VEVENT
DTSTART:20210518T150000Z
DTEND:20210518T153000Z
X-MICROSOFT-CDO-ALLDAYEVENT:FALSE
SUMMARY:Groundbreaking: CFD Research Corporation
DESCRIPTION:Join us for a groundbreaking ceremony for CFD Research's expansion!\n\n\n\nCFD Research's core capabilities are focused on research and development efforts in a wide range of application areas. The company was founded on modeling & simulation and develops software and test & evaluation tools for systems engineering and design efforts which often result in pioneering prototypes that solve technological challenges for government and commercial customers. Specialty capabilities include cyber & data sciences as well as drug discovery.
X-ALT-DESC;FMTTYPE=text/html:<span style="font-size:16px\;">Join us for a groundbreaking ceremony for CFD Research&#39\;s expansion!<br />\n<br />\nCFD Research&rsquo\;s core capabilities are focused on research and development efforts in a wide range of application areas. The company was founded on modeling &amp\; simulation and develops software and test &amp\; evaluation tools for systems engineering and design efforts which often result in pioneering prototypes that solve technological challenges for government and commercial customers. Specialty capabilities include cyber &amp\; data sciences as well as drug discovery.</span>
LOCATION:
UID:e.2112.12320
SEQUENCE:3
DTSTAMP:20260421T101019Z
URL:https://cm.hsvchamber.org/events/details/groundbreaking-cfd-research-corporation-12320
END:VEVENT

END:VCALENDAR
