BEGIN:VCALENDAR
VERSION:2.0
PRODID:-//ChamberMaster//Event Calendar 2.0//EN
METHOD:PUBLISH
X-PUBLISHED-TTL:P3D
REFRESH-INTERVAL:P3D
CALSCALE:GREGORIAN
BEGIN:VEVENT
DTSTART:20210204T150000Z
DTEND:20210204T163000Z
X-MICROSOFT-CDO-ALLDAYEVENT:FALSE
SUMMARY:MEMBER EVENT: BMSS Presents: A State and Federal Economic Update
DESCRIPTION:Join us for BMSS Presents: A State and Federal Economic Update.\n\n\n\nIn this webinar\, the Business Council of Alabama President & CEO Katie Boyd Britt will provide an update on the business climate in Alabama for 2021. Along with Katie\, Oakworth Capital Bank Managing Director John Norris will give a federal\, global and COVID-19 economic update.\n\n \n\nClick HERE to register.\n\n \n\nCPE will be provided two to three weeks after the webinar.
X-ALT-DESC;FMTTYPE=text/html:<br />\n<span style="font-size:16px\;">Join us for BMSS Presents: A State and Federal Economic Update.<br />\n<br />\nIn this webinar\, the Business Council of Alabama President &amp\; CEO Katie Boyd Britt will provide an update on the business climate in Alabama for 2021. Along with Katie\, Oakworth Capital Bank Managing Director John Norris will give a federal\, global and COVID-19 economic update.<br />\n&nbsp\;<br />\nClick <a href="https://bmss.zoom.us/webinar/register/WN_fJKRlI4GT-WyuFwuItNehQ"><strong>HERE</strong></a> to register.<br />\n&nbsp\;<br />\nCPE will be provided two to three weeks after the webinar. </span><br />\n<br />\n<br />\n&nbsp\;
LOCATION:Virtual event
UID:e.2112.12013
SEQUENCE:3
DTSTAMP:20260421T145433Z
URL:https://cm.hsvchamber.org/events/details/bmss-presents-a-state-and-federal-economic-update-12013
END:VEVENT

END:VCALENDAR
