BEGIN:VCALENDAR
VERSION:2.0
PRODID:-//ChamberMaster//Event Calendar 2.0//EN
METHOD:PUBLISH
X-PUBLISHED-TTL:P3D
REFRESH-INTERVAL:P3D
CALSCALE:GREGORIAN
BEGIN:VEVENT
DTSTART:20260416T123000Z
DTEND:20260416T140000Z
X-MICROSOFT-CDO-ALLDAYEVENT:FALSE
SUMMARY:2026 Breakfast & Biz @ The Harrison Center
DESCRIPTION:Join us for a fast-paced Speed Networking for Professionals\, where we're returning to the traditional table rotation format   now with six dynamic rounds designed to maximize meaningful connections. You'll meet a lot of new faces across the business community and walk away with fresh opportunities.\n\n\n\nBe sure to bring plenty of business cards and your calendar\, because you'll want to lock in follow-up meetings on the spot. Get ready for high-energy conversations\, expanded networks\, and new partnerships   all before the hour is up!\n\n\n\nSpace is limited so sign up TODAY!\n\nThere will not be onsite walk-in registration.
X-ALT-DESC;FMTTYPE=text/html:<br />\n<span style="font-size: 16px\;">Join us for a fast-paced&nbsp\;<strong>Speed Networking for Professionals</strong>\, where we&rsquo\;re returning to the traditional table rotation format &ndash\; now with six dynamic rounds designed to maximize meaningful connections. You&rsquo\;ll meet a lot of new faces across the business community and walk away with fresh opportunities.<br />\n<br />\nBe sure to bring&nbsp\;<strong>plenty of business cards</strong>&nbsp\;and your calendar\, because you&rsquo\;ll want to lock in follow-up meetings on the spot. Get ready for high-energy conversations\, expanded networks\, and new partnerships &ndash\; all before the hour is up!<br />\n<br />\nSpace is limited so sign up <strong>TODAY</strong>!<br />\n<em><span style="font-size:14px\;">There will <strong>not</strong> be onsite walk-in registration.</span></em></span><br />\n&nbsp\;
LOCATION:Bob Harrison Wellness and Advocacy Center
UID:e.2112.17522
SEQUENCE:3
DTSTAMP:20260422T203239Z
URL:https://cm.hsvchamber.org/events/details/2026-breakfast-biz-the-harrison-center-17522
END:VEVENT

END:VCALENDAR
