BEGIN:VCALENDAR
VERSION:2.0
PRODID:-//ChamberMaster//Event Calendar 2.0//EN
METHOD:PUBLISH
X-PUBLISHED-TTL:P3D
REFRESH-INTERVAL:P3D
CALSCALE:GREGORIAN
BEGIN:VEVENT
DTSTART:20260409T150000Z
DTEND:20260409T170000Z
X-MICROSOFT-CDO-ALLDAYEVENT:FALSE
SUMMARY:2026 Advanced Excel for Small Business: Linking Worksheets
DESCRIPTION:Streamline your data management and improve workflow efficiency with our Excel Linking Worksheets class! This session will guide you through creating dynamic connections between worksheets and workbooks\, allowing for seamless data updates and analysis.\n\n\n\nWhat You'll Learn:\n\n	Creating drop-down lists using Data Validation\n	Using LOOKUP and VLOOKUP to retrieve data across sheets\n	Linking worksheets with direct cell references for real-time updates\n	Applying SUMIF functions to summarize linked data\n	Working with formatted tables and maintaining sorted data for accuracy\n	Troubleshooting common linking errors and improving data integrity\n\n\n\nBy the end of this class\, you'll be able to efficiently link and manage data across multiple sheets and workbooks\, enhancing your Excel proficiency and reporting capabilities. Join us to take your spreadsheet skills to the next level!\n\n\n\nThis is a hands-on workshop\, so please bring your personal laptop as we will not provide laptops for attendees.
X-ALT-DESC;FMTTYPE=text/html:<span style="font-size: 16px\;">Streamline your data management and improve workflow efficiency with our&nbsp\;<strong>Excel Linking Worksheets</strong>&nbsp\;class! This session will guide you through creating dynamic connections between worksheets and workbooks\, allowing for seamless data updates and analysis.<br />\n<br />\n<u>What You&rsquo\;ll Learn</u>:</span>\n<ul>\n	<li><span style="font-size: 16px\;">Creating drop-down lists using Data Validation</span></li>\n	<li><span style="font-size: 16px\;">Using LOOKUP and VLOOKUP to retrieve data across sheets</span></li>\n	<li><span style="font-size: 16px\;">Linking worksheets with direct cell references for real-time updates</span></li>\n	<li><span style="font-size: 16px\;">Applying SUMIF functions to summarize linked data</span></li>\n	<li><span style="font-size: 16px\;">Working with formatted tables and maintaining sorted data for accuracy</span></li>\n	<li><span style="font-size: 16px\;">Troubleshooting common linking errors and improving data integrity</span></li>\n</ul>\n<br />\n<span style="font-size: 16px\;">By the end of this class\, you&rsquo\;ll be able to efficiently link and manage data across multiple sheets and workbooks\, enhancing your Excel proficiency and reporting capabilities. Join us to take your spreadsheet skills to the next level!<br />\n<br />\n<span style="color: rgb(255\, 0\, 0)\;"><strong>This is a hands-on workshop\, so please bring your personal laptop as we will not provide laptops for attendees.</strong></span></span><br />\n&nbsp\;
LOCATION:Huntsville/Madison County Chamber
UID:e.2112.17742
SEQUENCE:3
DTSTAMP:20260422T203122Z
URL:https://cm.hsvchamber.org/events/details/2026-advanced-excel-for-small-business-linking-worksheets-17742
END:VEVENT

END:VCALENDAR
