BEGIN:VCALENDAR
VERSION:2.0
PRODID:-//ChamberMaster//Event Calendar 2.0//EN
METHOD:PUBLISH
X-PUBLISHED-TTL:P3D
REFRESH-INTERVAL:P3D
CALSCALE:GREGORIAN
BEGIN:VEVENT
DTSTART:20251114T180000Z
DTEND:20251114T190000Z
X-MICROSOFT-CDO-ALLDAYEVENT:FALSE
SUMMARY:2025 State of the City Address with Mayor Tommy Battle
DESCRIPTION:THIS EVENT IS SOLD OUT\n\n\n\nThe Huntsville/Madison County Chamber is delighted to provide the mayor of Huntsville a forum to present the State of the City Address to our community. \n\n\n\nMayor Tommy Battle uses this opportunity to highlight the city's progress in economic development and present his "annual report" to the citizens of Huntsville\, highlighting the challenges from the past year and his outlook for the year ahead. This event is extremely well attended\, and we expect more than 1\,200 representatives from business\, government and nonprofit organizations to be present.
X-ALT-DESC;FMTTYPE=text/html:<span style="font-size:20px\;"><span style="color:#FF0000\;"><strong>THIS EVENT IS <u>SOLD OUT</u></strong></span></span><br />\n<br />\n<span style="font-size:16px\;">The Huntsville/Madison County Chamber is delighted&nbsp\;to provide the mayor of Huntsville a forum to&nbsp\;present the State of the City Address to our community.&nbsp\;<br />\n<br />\nMayor Tommy Battle uses this opportunity to highlight the&nbsp\;city&rsquo\;s progress in economic development and present his&nbsp\;&ldquo\;annual report&rdquo\; to the citizens of Huntsville\, highlighting&nbsp\;the challenges from the past year and his outlook for the&nbsp\;year ahead. This event is extremely well attended\, and we&nbsp\;expect more than 1\,200 representatives from business\,&nbsp\;government and nonprofit organizations to be present.</span><br />\n&nbsp\;
LOCATION:VBC Saturn Ballroom See on Google Maps
UID:e.2112.17516
SEQUENCE:3
DTSTAMP:20260423T073438Z
URL:https://cm.hsvchamber.org/events/details/2025-state-of-the-city-address-with-mayor-tommy-battle-17516
END:VEVENT

END:VCALENDAR
