BEGIN:VCALENDAR
VERSION:2.0
PRODID:-//ChamberMaster//Event Calendar 2.0//EN
METHOD:PUBLISH
X-PUBLISHED-TTL:P3D
REFRESH-INTERVAL:P3D
CALSCALE:GREGORIAN
BEGIN:VEVENT
DTSTART;VALUE=DATE:20251028
DTEND;VALUE=DATE:20251030
TRANSP:TRANSPARENT
X-MICROSOFT-CDO-ALLDAYEVENT:TRUE
SUMMARY:2025 P.R.O.P.E.L. Small Business & Entrepreneur Summit
DESCRIPTION:Join us for the P.R.O.P.E.L. Small Business & Entrepreneur Summit! This two-day event brings together entrepreneurs\, small businesses\, investors\, and industry leaders to promote innovation\, pitch new ideas\, and explore real business opportunities in key sectors like aerospace\, biotech\, manufacturing\, and cybersecurity.\n\n\n\nWith live pitch competitions\, demo sessions\, panels\, and networking\, this summit is built to move small business forward.\n\n\n\nClick HERE for all the details.  Registration is open now for people who would like to attend the event.\n\n\n\nLet us know you are coming by registering today! \n\n\n\n__________________________________________\n\n\n\nPitch Competition:\n\n	Applications to pitch can be found here. The deadline to apply is Friday\, Oct. 10.\n	Pitch contestants will be automatically registered for the event and will be notified on October 14 if they have been selected. If you are not selected\, you will still have time to register as an attendee.
X-ALT-DESC;FMTTYPE=text/html:<br />\n<span style="color:black\;"><span style="font-family:aptos\,sans-serif\;"><span style="font-size:12.0pt\;">Join us for the <strong>P.R.O.P.E.L. Small Business &amp\; Entrepreneur Summit</strong>! This two-day event brings together entrepreneurs\, small businesses\, investors\, and industry leaders to promote innovation\, pitch new ideas\, and explore real business opportunities in key sectors like aerospace\, biotech\, manufacturing\, and cybersecurity.<br />\n<br />\nWith live pitch competitions\, demo sessions\, panels\, and networking\, this summit is built to move small business forward.</span></span></span><br />\n<br />\n<span style="font-size:16px\;">Click&nbsp\;</span><a href="https://hsvchamber.org/small-business/propel-summit/" style="font-size: 16px\;"><strong>HERE</strong></a><span style="font-size:16px\;">&nbsp\;for all the details.&nbsp\; Registration is open now for people who would like to attend the event.<br />\n<br />\nLet us know you are coming by registering today!&nbsp\;</span><br />\n<br />\n<span style="color:#f20530\;"><em><span style="font-size:14px\;"><span style="font-size:16px\;"><strong>__________________________________________<br />\n<br />\nPitch Competition:</strong></span></span></em></span>\n<ul>\n	<li><span style="font-size:16px\;"><em>Applications to pitch can be found <a href="https://hsvchamber.org/small-business/propel-summit/">here.</a> The deadline to apply is Friday\, Oct. 10.</em></span></li>\n	<li><span style="font-size:16px\;"><em>Pitch contestants will be automatically registered for the event and will be notified&nbsp\;on October 14 if they have been selected. If you are not selected\, you will still have time to register as an attendee.</em></span></li>\n</ul>\n
LOCATION:Stovehouse Event Center
UID:e.2112.17967
SEQUENCE:3
DTSTAMP:20260423T092011Z
URL:https://cm.hsvchamber.org/events/details/2025-p-r-o-p-e-l-small-business-entrepreneur-summit-17967
END:VEVENT

END:VCALENDAR
