BEGIN:VCALENDAR
VERSION:2.0
PRODID:-//ChamberMaster//Event Calendar 2.0//EN
METHOD:PUBLISH
X-PUBLISHED-TTL:P3D
REFRESH-INTERVAL:P3D
CALSCALE:GREGORIAN
BEGIN:VEVENT
DTSTART:20250325T140000Z
DTEND:20250325T153000Z
X-MICROSOFT-CDO-ALLDAYEVENT:FALSE
SUMMARY:2025 Expanding Lending Opportunities for Small Business Growth - CANCELED
DESCRIPTION:This event has been canceled!\n\n\n\nAlabama's State Small Business Credit Initiative (SSBCI) presents a unique opportunity for private lenders to expand their portfolios while driving economic growth across the state. This session will highlight LendAL\, a program designed to partner with private lenders to extend credit to small businesses and entrepreneurs.\n\n\n\nLenders will gain valuable insights into how this initiative can help mitigate risk\, increase lending capacity\, and support business expansion while strengthening Alabama's economy. Learn how to leverage state-backed resources to support clients\, foster innovation\, and stimulate private-sector lending. Join us to explore how partnering with this program can benefit both your institution and the broader business community.\n\n \nSPEAKER\n\n\nWalt Postlewait\n\nInnovate Alabama
X-ALT-DESC;FMTTYPE=text/html:<span style="font-size:16px\;"><strong><span style="color:#FF0000\;"><span style="font-size:18px\;">This event has been canceled!</span></span></strong><br />\n<br />\nAlabama&rsquo\;s State Small Business Credit Initiative (SSBCI) presents a unique opportunity for private lenders to expand their portfolios while driving economic growth across the state. This session will highlight LendAL\, a program designed to partner with private lenders to extend credit to small businesses and entrepreneurs.<br />\n<br />\nLenders will gain valuable insights into how this initiative can help mitigate risk\, increase lending capacity\, and support business expansion while strengthening Alabama&rsquo\;s economy. Learn how to leverage state-backed resources to support clients\, foster innovation\, and stimulate private-sector lending. Join us to explore how partnering with this program can benefit both your institution and the broader business community.</span><br />\n&nbsp\;\n<div style="background:#eee\;border:1px solid #ccc\;padding:5px 10px\;"><span style="font-size:14px\;"><strong><em>SPEAKER</em></strong></span></div>\n<br />\n<span style="font-size:16px\;"><strong>Walt Postlewait</strong><br />\n<span style="font-size:14px\;"><em>Innovate Alabama</em></span></span><br />\n<br />\n&nbsp\;
LOCATION:Huntsville/Madison County Chamber
UID:e.2112.16345
SEQUENCE:3
DTSTAMP:20260422T175436Z
URL:https://cm.hsvchamber.org/events/details/2025-expanding-lending-opportunities-for-small-business-growth-canceled-16345
END:VEVENT

END:VCALENDAR
