BEGIN:VCALENDAR
VERSION:2.0
PRODID:-//ChamberMaster//Event Calendar 2.0//EN
METHOD:PUBLISH
X-PUBLISHED-TTL:P3D
REFRESH-INTERVAL:P3D
CALSCALE:GREGORIAN
BEGIN:VEVENT
DTSTART:20250910T170000Z
DTEND:20250910T180000Z
X-MICROSOFT-CDO-ALLDAYEVENT:FALSE
SUMMARY:2025 City of Madison Update with Mayor Paul Finley
DESCRIPTION:The Huntsville/Madison County Chamber\, in cooperation with the Madison Chamber of Commerce\, is delighted to provide the Mayor of the City of Madison with a forum to present the City of Madison Update to our community. Mayor Paul Finley will use this opportunity to highlight the City of Madison's progress over the years he served as Mayor and his outlook for the years ahead.\n\n \n\nThis event is expected to attract ~450 representatives from business\, government and nonprofit organizations.
X-ALT-DESC;FMTTYPE=text/html:<br />\n<span style="font-size:11.0pt\;"><span style="font-size:16px\;">The Huntsville/Madison County Chamber\, in cooperation with the Madison Chamber of Commerce\, is delighted to provide the Mayor of the City of Madison with a forum to present the City of Madison Update to our community. Mayor Paul Finley will use this opportunity to highlight the City of Madison&rsquo\;s progress over the years he served as Mayor and his outlook for the years ahead.</span></span><br />\n<span style="font-size:16px\;">&nbsp\;<br />\nThis event is expected to attract ~450 representatives from business\, government and nonprofit organizations.</span><br />\n&nbsp\;
LOCATION:VBC East Hall 1+2 See on Google maps
UID:e.2112.16273
SEQUENCE:3
DTSTAMP:20260423T105918Z
URL:https://cm.hsvchamber.org/events/details/2025-city-of-madison-update-with-mayor-paul-finley-16273
END:VEVENT

END:VCALENDAR
