BEGIN:VCALENDAR
VERSION:2.0
PRODID:-//ChamberMaster//Event Calendar 2.0//EN
METHOD:PUBLISH
X-PUBLISHED-TTL:P3D
REFRESH-INTERVAL:P3D
CALSCALE:GREGORIAN
BEGIN:VEVENT
DTSTART:20250114T173000Z
DTEND:20250114T190000Z
X-MICROSOFT-CDO-ALLDAYEVENT:FALSE
SUMMARY:2025 Alabama Legislative Update
DESCRIPTION:North Alabama legislators hold some of the most powerful positions in the Alabama Legislature. The Legislature is set to start their 2025 regular session in February\, marking the third year in the quadrennium.\n\n\n\nThe Chamber plans to host an update with key members of the north Alabama legislative leadership prior to the start of the 2025 regular session. This event will provide our members with an opportunity to hear what issues are likely to be considered during the session and learn more about the perspectives of our leaders.
X-ALT-DESC;FMTTYPE=text/html:<span style="font-size:16px\;">North Alabama legislators hold some of the most powerful positions in the Alabama Legislature. The Legislature is set to start their 2025 regular session in February\, marking the third year in the quadrennium.<br />\n<br />\nThe Chamber plans to host an update with key members of the north Alabama legislative leadership prior to the start of the 2025 regular session. This event will provide our members with an opportunity to hear what issues are likely to be considered during the session and learn more about the perspectives of our leaders.</span>
LOCATION:Jackson Center
UID:e.2112.16261
SEQUENCE:3
DTSTAMP:20260423T044742Z
URL:https://cm.hsvchamber.org/events/details/2025-alabama-legislative-update-16261
END:VEVENT

END:VCALENDAR
