BEGIN:VCALENDAR
VERSION:2.0
PRODID:-//ChamberMaster//Event Calendar 2.0//EN
METHOD:PUBLISH
X-PUBLISHED-TTL:P3D
REFRESH-INTERVAL:P3D
CALSCALE:GREGORIAN
BEGIN:VEVENT
DTSTART:20241205T223000Z
DTEND:20241206T003000Z
X-MICROSOFT-CDO-ALLDAYEVENT:FALSE
SUMMARY:2024 Holiday Open House
DESCRIPTION:The Chamber's annual Holiday Open House will ring in the 2024 holiday season with fabulous food\, wonderful entertainment\, and the perfect opportunity to meet and greet other Chamber members. The holiday event boasts an annual attendance of over 900 Chamber members\, community leaders and elected officials\, and is the perfect holiday event to promote your company's products and services.\n\n\n\nOur building will be trimmed for the season   come sample fabulous food and drink from local members. We'll also have our 14-ft. Christmas tree set up\, and we invite you to add an ornament from your company or organization.\n\n\n\nFood & drink vendors to date: \n\n	106 Jefferson Huntsville Downtown\, Curio by Hilton\n	116 Noble\n	Amerigo Italian Restaurant\n	Baby Bite Bake Shop\n	BeeZr\n	Big Oh's \n	Biscuit Belly\n	Brookins Smoken On the Go\n	Carrabba's Italian Grill\n	China's Creations\n	Cookie Fix Huntsville\n	Culver's\n	Good Company Cafe\n	Jim N Nicks Community Bar-B-Q\n	Kona Grill\n	Mac & Snacks\n	Mason Dixon Bakery & Bistro\n	Pizzelle's Confections\n	PJ's Coffee of New Orleans - Downtown Huntsville\n	Salt Factory Pub\n	Southern Wagyu Meat Market \n	Taste Temptations Catering\, LLC\n	Walk On's Sports Bistreaux
X-ALT-DESC;FMTTYPE=text/html:<span style="font-size:16px\;">The Chamber&rsquo\;s annual <strong>Holiday Open House</strong> will ring in&nbsp\;the 2024 holiday season with fabulous food\, wonderful&nbsp\;entertainment\, and the perfect opportunity to meet and&nbsp\;greet other Chamber members. The holiday event boasts&nbsp\;an annual attendance of over 900 Chamber members\,&nbsp\;community leaders and elected officials\, and is the perfect&nbsp\;holiday event to promote your company&rsquo\;s products and&nbsp\;services.<br style="font-size: 16px\;" />\n<br style="font-size: 16px\;" />\nOur building will be trimmed for the season &ndash\; come sample fabulous food and drink from local members. We&#39\;ll also have our 14-ft. Christmas tree set up\, and we invite you to add an ornament from your company or organization.</span><br />\n<br />\n<span style="font-size:16px\;"><em>Food &amp\; drink vendors to date:</em></span><span style="font-size:14px\;"><em>&#8203\;</em></span>\n<ul>\n	<li><em><span style="font-size:14px\;">106 Jefferson Huntsville Downtown\, Curio by Hilton</span></em></li>\n	<li><em><span style="font-size:14px\;">116 Noble</span></em></li>\n	<li><em><span style="font-size:14px\;">Amerigo Italian Restaurant</span></em></li>\n	<li><em><span style="font-size:14px\;">Baby Bite Bake Shop</span></em></li>\n	<li><em><span style="font-size:14px\;">BeeZr</span></em></li>\n	<li><em><span style="font-size:14px\;">Big Oh&#39\;s&nbsp\;</span></em></li>\n	<li><em><span style="font-size:14px\;">Biscuit Belly</span></em></li>\n	<li><em><span style="font-size:14px\;">Brookins Smoken On the Go</span></em></li>\n	<li><em><span style="font-size:14px\;">Carrabba&#39\;s Italian Grill</span></em></li>\n	<li><em><span style="font-size:14px\;">China&#39\;s Creations</span></em></li>\n	<li><em><span style="font-size:14px\;">Cookie Fix Huntsville</span></em></li>\n	<li><em><span style="font-size:14px\;">Culver&#39\;s</span></em></li>\n	<li><em><span style="font-size:14px\;">Good Company Cafe</span></em></li>\n	<li><em><span style="font-size:14px\;">Jim N Nicks Community Bar-B-Q</span></em></li>\n	<li><em><span style="font-size:14px\;">Kona Grill</span></em></li>\n	<li><em><span style="font-size:14px\;">Mac &amp\; Snacks</span></em></li>\n	<li><em><span style="font-size:14px\;">Mason Dixon Bakery &amp\; Bistro</span></em></li>\n	<li><em><span style="font-size:14px\;">Pizzelle&#39\;s Confections</span></em></li>\n	<li><em><span style="font-size:14px\;">PJ&#39\;s Coffee of New Orleans - Downtown Huntsville</span></em></li>\n	<li><em><span style="font-size:14px\;">Salt Factory Pub</span></em></li>\n	<li><em><span style="font-size:14px\;">Southern Wagyu Meat Market&nbsp\;</span></em></li>\n	<li><em><span style="font-size:14px\;">Taste Temptations Catering\, LLC</span></em></li>\n	<li><em><span style="font-size:14px\;">Walk On&#39\;s Sports Bistreaux&nbsp\;</span></em></li>\n</ul>\n
LOCATION:Huntsville/Madison County Chamber
UID:e.2112.16307
SEQUENCE:3
DTSTAMP:20260421T215317Z
URL:https://cm.hsvchamber.org/events/details/2024-holiday-open-house-16307
END:VEVENT

END:VCALENDAR
