BEGIN:VCALENDAR
VERSION:2.0
PRODID:-//ChamberMaster//Event Calendar 2.0//EN
METHOD:PUBLISH
X-PUBLISHED-TTL:P3D
REFRESH-INTERVAL:P3D
CALSCALE:GREGORIAN
BEGIN:VEVENT
DTSTART:20241203T140000Z
DTEND:20241203T180000Z
X-MICROSOFT-CDO-ALLDAYEVENT:FALSE
SUMMARY:2024 Doing Business with the Federal Government (POSTPONED)
DESCRIPTION:THIS EVENT HAS BEEN POSTPONED.\n\n\n\nThe U.S. Department of the Treasury\, Office of Small and Disadvantaged Business Utilization (OSDBU) works diligently to ensure that small businesses\, especially those located in under-served and under-resourced communities\, have fair and equitable access to do business with Treasury Departmental Offices (DO) and their Bureaus. \n\n\n\nThe Treasury's OSDBU will bring representatives from their Bureaus here to talk to the small business community about procurement opportunities as well as their initiatives to ensure Small Disadvantaged Businesses located in under-served and under-resourced communities have equitable consideration for contractual awards within Treasury DO and their Bureaus. \n\n\n\nThe OSDBU has shared several NAICS codes with us (North American Industry Classication System) - they say the event will definitely apply to these companies. Please check the list to see if yours is on there!\n\n\n\nAttendees will enjoy a hot breakfast and plenty of opportunities to network and connect with our presenters during and after presentations at networking tables hosted by the different Bureaus.\n\n\n\n \nAGENDA\n\n\nBreakfast: 8 8:30 a.m.\n\nExhibit booths for federal civilian agencies available from 8 9:45 a.m.\n\n\n\nBriefings: \n\n\n	Access to Capital in Alabama \n\n	\n		Donna M. Ragucci\, SES\, Executive Director\, Office of Small and Disadvantaged Business Utilization\, U.S. Department of the Treasury\n	\n	\n	SBIR Phase III Contracting Opportunities with Federal Civilian Agencies\n	SBA Small Business Certification Changes\n	Federal Agency Presentations:\n\n\n\n	U.S. Department of the Treasury\n	U.S. Agency for International Development (USAID)\n	U.S. Department of the Navy\n	U.S. Department of the Army\n	U.S. Army Materiel Command\n	U.S. Army Corps of Engineers (USACE)\n	National Guard Bureau\n	NASA\n	Defense Counterintelligence and Security Agency (DCSA)\n	U.S. Environmental Protection Agency (EPA)\n\n\n\n\nNetworking: 11 12 p.m.
X-ALT-DESC;FMTTYPE=text/html:<span style="font-size:16px\;"><span style="font-size:20px\;"><span style="color:#003399\;"><strong>THIS EVENT HAS BEEN POSTPONED.</strong></span></span><br />\n<br />\nThe U.S. Department of the Treasury\, Office of Small and Disadvantaged Business Utilization (OSDBU) works diligently to ensure that small businesses\, especially those located in under-served and under-resourced communities\, have fair and equitable access to do business with Treasury Departmental Offices (DO) and their Bureaus.&nbsp\;<br />\n<br />\nThe Treasury&rsquo\;s OSDBU will bring representatives from their Bureaus here to talk to the small business community about procurement opportunities as well as their initiatives to ensure Small Disadvantaged Businesses located in under-served and under-resourced communities have equitable consideration for contractual awards within Treasury DO and their Bureaus.&nbsp\;<br />\n<br />\nThe OSDBU has shared several NAICS codes with us (North American Industry Classication System) - they say the event will definitely apply to these companies. <a href="https://hsvchamber.org/wp-content/uploads/2024/11/NAICS-codes-for-December-3-2024-event-1.pdf" target="_blank"><strong>Please check the list to see if yours is on there!</strong></a><br />\n<br />\nAttendees will enjoy a hot breakfast and plenty of opportunities to network and connect with our presenters during and after presentations at networking tables hosted by the different Bureaus.</span><br />\n<br />\n&nbsp\;\n<div style="background:#eee\;border:1px solid #ccc\;padding:5px 10px\;"><span style="font-size:14px\;"><strong>AGENDA</strong></span></div>\n<br />\n<span style="font-size:14px\;"><span style="font-size:16px\;"><strong>Breakfast:</strong> 8&ndash\;8:30 a.m.</span><br />\n<em>Exhibit booths for federal civilian agencies available from 8&ndash\;9:45 a.m.</em></span><br />\n<br />\n<span style="font-size:16px\;"><strong>Briefings</strong>: </span>\n\n<ul>\n	<li><span style="font-size:14px\;"><strong>Access to Capital in Alabama</strong> </span>\n\n	<ul>\n		<li><span style="font-size:14px\;">Donna M. Ragucci\, SES\, Executive Director\, Office of Small and Disadvantaged Business Utilization\, U.S. Department of the Treasury</span></li>\n	</ul>\n	</li>\n	<li><span style="font-size:14px\;"><strong>SBIR Phase III Contracting Opportunities with Federal Civilian Agencies</strong></span></li>\n	<li><span style="font-size:14px\;"><strong>SBA Small Business Certification Changes</strong></span></li>\n	<li><span style="font-size:14px\;"><strong>Federal Agency Presentations:</strong></span></li>\n</ul>\n\n<ul style="margin-left: 40px\;">\n	<li><span style="font-size:14px\;">U.S. Department of the Treasury</span></li>\n	<li><span style="font-size:14px\;">U.S. Agency for International Development (USAID)</span></li>\n	<li><span style="font-size:14px\;">U.S. Department of the Navy</span></li>\n	<li><span style="font-size:14px\;">U.S. Department of the Army</span></li>\n	<li><span style="font-size:14px\;">U.S. Army Materiel Command</span></li>\n	<li><span style="font-size:14px\;">U.S. Army Corps of Engineers (USACE)</span></li>\n	<li><span style="font-size:14px\;">National Guard Bureau</span></li>\n	<li><span style="font-size:14px\;">NASA</span></li>\n	<li><span style="font-size:14px\;">Defense Counterintelligence and Security Agency (DCSA)</span></li>\n	<li><span style="font-size:14px\;">U.S. Environmental Protection Agency (EPA)</span></li>\n</ul>\n\n<p><br />\n<span style="font-size:16px\;"><strong>Networking</strong>: 11&ndash\;12 p.m.</span><br />\n<br />\n&nbsp\;</p>\n
LOCATION:Huntsville/Madison County Chamber
UID:e.2112.16826
SEQUENCE:3
DTSTAMP:20260424T102808Z
URL:https://cm.hsvchamber.org/events/details/2024-doing-business-with-the-federal-government-postponed-16826
END:VEVENT

END:VCALENDAR
