BEGIN:VCALENDAR
VERSION:2.0
PRODID:-//ChamberMaster//Event Calendar 2.0//EN
METHOD:PUBLISH
X-PUBLISHED-TTL:P3D
REFRESH-INTERVAL:P3D
CALSCALE:GREGORIAN
BEGIN:VEVENT
DTSTART:20230222T180000Z
DTEND:20230222T190000Z
X-MICROSOFT-CDO-ALLDAYEVENT:FALSE
SUMMARY:2023 Washington Update featuring Sen. Tuberville
DESCRIPTION:Please join us for the Chamber's Washington Update Luncheon featuring Sen. Tommy Tuberville. This event will provide the Senator with an opportunity to update the business community on the critical business\, NASA\, and military issues pending in Congress that impact our community's economic development and national security. The U.S. Senate plays a critical role shaping military and NASA programs and other policies affecting our regional economy.\n\n\n\nSen. Tuberville has seats on the following Senate committees: Armed Services\; Agriculture\, Nutrition\, and Forestry\; Health\, Education\, Labor\, and Pensions\; and Veterans' Affairs.
X-ALT-DESC;FMTTYPE=text/html:<span style="font-size:16px\;">Please join us for the Chamber&rsquo\;s&nbsp\;<strong>Washington Update&nbsp\;Luncheon</strong> <strong>featuring Sen. Tommy Tuberville</strong>. This event will provide the Senator with an opportunity to update the business community on the critical business\, NASA\, and military issues pending in Congress that impact our community&#39\;s economic development and national security. The U.S. Senate plays a critical role shaping military and NASA programs and other policies affecting our regional economy.<br />\n<br />\nSen. Tuberville has seats on the following Senate committees: </span><span style="font-size:16px\;">Armed Services\; </span><span style="font-size:16px\;">Agriculture\, Nutrition\, and Forestry\; Health\, Education\, Labor\, and Pensions\; and Veterans&#39\; Affairs.</span><br />\n&nbsp\;
LOCATION:VBC South Hall 2 See on Google Maps
UID:e.2112.13314
SEQUENCE:3
DTSTAMP:20260423T132406Z
URL:https://cm.hsvchamber.org/events/details/2023-washington-update-featuring-sen-tuberville-13314
END:VEVENT

END:VCALENDAR
