BEGIN:VCALENDAR
VERSION:2.0
PRODID:-//ChamberMaster//Event Calendar 2.0//EN
METHOD:PUBLISH
X-PUBLISHED-TTL:P3D
REFRESH-INTERVAL:P3D
CALSCALE:GREGORIAN
BEGIN:VEVENT
DTSTART;VALUE=DATE:20230526
DTEND;VALUE=DATE:20230530
TRANSP:TRANSPARENT
X-MICROSOFT-CDO-ALLDAYEVENT:TRUE
SUMMARY:2023 UCI Para-Cycling Road World Cup
DESCRIPTION:Huntsville\, Alabama is excited to host the UCI Para-Cycling Road World Cup in the spring of 2023. This is the first Para-cycling Road World Cup to ever be held in the U.S. and is expected to bring in 300+ athletes from 30-40 countries with their support teams and families. Our community looks forward to hosting in the beautiful\, exciting Rocket City!\n\n\n\nWe'll need lots of volunteers for this event. This is an incredible opportunity to watch the world's top para-cyclists up close and help keep the race course safe! We'll need volunteers for a number of duties\, including course marshals to monitor the race course\, volunteer and staff check-in\, hospitality\, and various other support. We'll provide training\, don't worry! It will be easy and fun.\n\n\n\nSign-Up to be a Volunteer!
X-ALT-DESC;FMTTYPE=text/html:<span style="color: rgb(51\, 51\, 51)\; font-family: sans-serif\, Arial\, Verdana\, &quot\;Trebuchet MS&quot\;\; font-size: 16px\;">Huntsville\, Alabama is excited to host the UCI&nbsp\;<strong>Para-Cycling Road World Cup</strong>&nbsp\;in the spring of 2023. This is the first Para-cycling Road World Cup to ever be held in the U.S. and is expected to bring in 300+ athletes from 30-40 countries with their support teams and families. Our community looks forward to hosting in the beautiful\, exciting Rocket City!<br />\n<br />\n<span style="color: rgb(199\, 24\, 57)\;"><strong>We&rsquo\;ll need lots of volunteers for this event.</strong></span>&nbsp\;This is an incredible opportunity to watch the world&rsquo\;s top para-cyclists up close and help keep the race course safe! We&rsquo\;ll need volunteers for a number of duties\, including course marshals to monitor the race course\, volunteer and staff check-in\, hospitality\, and various other support. We&rsquo\;ll provide training\, don&rsquo\;t worry! It will be easy and fun.<br />\n<br />\n<a href="https://www.signupgenius.com/go/60b0e4baaac2fa2fb6-2023#/" style="color: rgb(7\, 130\, 193)\;">Sign-Up to be a Volunteer!</a></span>
LOCATION:Cummings Research Park West See on Google Maps
UID:e.2112.14071
SEQUENCE:3
DTSTAMP:20260423T212649Z
URL:https://cm.hsvchamber.org/events/details/2023-uci-para-cycling-road-world-cup-14071
END:VEVENT

END:VCALENDAR
