BEGIN:VCALENDAR
VERSION:2.0
PRODID:-//ChamberMaster//Event Calendar 2.0//EN
METHOD:PUBLISH
X-PUBLISHED-TTL:P3D
REFRESH-INTERVAL:P3D
CALSCALE:GREGORIAN
BEGIN:VEVENT
DTSTART:20230926T170000Z
DTEND:20230926T180000Z
X-MICROSOFT-CDO-ALLDAYEVENT:FALSE
SUMMARY:2023 State of the City Address featuring Mayor Battle
DESCRIPTION:THIS EVENT IS SOLD OUT.\n\n\n\nThe Huntsville/Madison County Chamber is delighted to provide the mayor of the City of Huntsville a forum to present the State of the City Address to our community. Mayor Tommy Battle uses this opportunity to highlight the city's progress in economic development and present his "annual report" to the citizens of Huntsville\, highlighting the challenges from the past year and his outlook for the year ahead.\n\n\n\nThis event is extremely well attended and we expect more than 1\,000 representatives from business\, government and nonprofit organizations to be present.
X-ALT-DESC;FMTTYPE=text/html:<p><span style="font-size:16px\;"><span style="color:#c14b27\;"><span style="font-size:20px\;"><strong><span style="font-size:24px\;">THIS EVENT IS SOLD OUT.</span></strong></span></span><br />\n<br />\nThe Huntsville/Madison County Chamber is delighted&nbsp\;to provide the mayor of the City of Huntsville a forum to&nbsp\;present the State of the City Address to our community.&nbsp\;Mayor Tommy Battle uses this opportunity to highlight the&nbsp\;city&rsquo\;s progress in economic development and present his&nbsp\;&ldquo\;annual report&rdquo\; to the citizens of Huntsville\, highlighting&nbsp\;the challenges from the past year and his outlook for the&nbsp\;year ahead.<br />\n<br />\nThis event is extremely well attended and we&nbsp\;expect more than 1\,000 representatives from business\,&nbsp\;government and nonprofit organizations to be present.&nbsp\;</span><br />\n&nbsp\;</p>\n\n<hr />
LOCATION:VBC Saturn Ballroom formerly known as North Hall See on Google Maps
UID:e.2112.13811
SEQUENCE:3
DTSTAMP:20260424T053729Z
URL:https://cm.hsvchamber.org/events/details/2023-state-of-the-city-address-featuring-mayor-battle-13811
END:VEVENT

END:VCALENDAR
