BEGIN:VCALENDAR
VERSION:2.0
PRODID:-//ChamberMaster//Event Calendar 2.0//EN
METHOD:PUBLISH
X-PUBLISHED-TTL:P3D
REFRESH-INTERVAL:P3D
CALSCALE:GREGORIAN
BEGIN:VEVENT
DTSTART:20230202T133000Z
DTEND:20230202T170000Z
X-MICROSOFT-CDO-ALLDAYEVENT:FALSE
SUMMARY:2023 State of Healthcare
DESCRIPTION:In many ways\, the healthcare sector is the most consequential part of the United States economy. It is a fundamental part of people's lives\, supporting their health and well-being. Moreover\, it matters because of its economic size and budgetary implication.\n\n\n\nHear from leaders in healthcare as they talk about the services available in our area\, the challenges they are facing\, and the impact the local healthcare system has on the economy.\n\n\n\nAlso enjoy an exhibitor hall where you will be able to learn more about our hospitals\, get a health check\, and see other organizations that work alongside our hospitals to provide the care you need.\n\n\n\nPanel A ~ moderated by Clarissa McClain\n\n	Crestwood Medical Center   Matthew Banks\, CEO\n	Huntsville Hospital - Tracy Doughty\, President & COO\n	Madison Hospital   Mary Lynne Wright\, President\n\nPanel B ~ moderated by Claire Aiello\n\n\n	Alabama Public Health Department   Judy Smith\, Administrator\n	Madison County Health Department   Dr. Wes Stubblefield\, North Alabama District Medical Officer\n	Wellstone Inc. - Jeremy Blair\, CEO\n\nSpeaker\n\nJeff Samz\, CEO\, Huntsville Hospital Health System
X-ALT-DESC;FMTTYPE=text/html:<span style="font-size:16px\;">In many ways\, the healthcare sector is the most consequential part of the United States economy. It is a fundamental part of people&rsquo\;s lives\, supporting their health and well-being. Moreover\, it matters because of its economic size and budgetary implication.<br />\n<br />\nHear from leaders in healthcare as they talk about the services available in our area\, the challenges they are facing\, and the impact the local healthcare system has on the economy.<br />\n<br />\nAlso enjoy an exhibitor hall where you will be able to learn more about our hospitals\, get a health check\, and see other organizations that work alongside our hospitals to provide the care you need.<br />\n<br />\n<u>Panel A</u> <span style="font-size:14px\;"><em>~ moderated by Clarissa McClain</em></span></span>\n<ul>\n	<li><span style="font-size:16px\;">Crestwood Medical Center &ndash\; Matthew Banks\, CEO</span></li>\n	<li><span style="font-size:16px\;">Huntsville Hospital - Tracy Doughty\, President &amp\; COO</span></li>\n	<li><span style="font-size:16px\;">Madison Hospital &ndash\; Mary Lynne Wright\, President</span></li>\n</ul>\n<span style="font-size:16px\;"><u>Panel B</u><span style="font-size:14px\;"><em> ~ moderated by Claire Aiello</em></span></span>\n\n<ul>\n	<li><span style="font-size:16px\;">Alabama Public Health Department &ndash\; Judy Smith\, Administrator</span></li>\n	<li><span style="font-size:16px\;">Madison County Health Department &ndash\; Dr. Wes Stubblefield\, North Alabama District Medical Officer</span></li>\n	<li><span style="font-size:16px\;">Wellstone Inc. - Jeremy Blair\, CEO</span></li>\n</ul>\n<span style="font-size:16px\;"><u>Speaker</u><br />\nJeff Samz\, CEO\, Huntsville Hospital Health System</span><br />\n&nbsp\;
LOCATION:Huntsville Botanical Garden
UID:e.2112.9756
SEQUENCE:3
DTSTAMP:20260423T184332Z
URL:https://cm.hsvchamber.org/events/details/2023-state-of-healthcare-9756
END:VEVENT

END:VCALENDAR
